BEGIN:VCALENDAR
VERSION:2.0
PRODID:-//Explora Parque Valdebebas - ECPv6.15.20//NONSGML v1.0//EN
CALSCALE:GREGORIAN
METHOD:PUBLISH
X-WR-CALNAME:Explora Parque Valdebebas
X-ORIGINAL-URL:https://exploraparquevaldebebas.es
X-WR-CALDESC:Eventos para Explora Parque Valdebebas
REFRESH-INTERVAL;VALUE=DURATION:PT1H
X-Robots-Tag:noindex
X-PUBLISHED-TTL:PT1H
BEGIN:VTIMEZONE
TZID:UTC
BEGIN:STANDARD
TZOFFSETFROM:+0000
TZOFFSETTO:+0000
TZNAME:UTC
DTSTART:20250101T000000
END:STANDARD
END:VTIMEZONE
BEGIN:VEVENT
DTSTART;TZID=UTC:20260301T113000
DTEND;TZID=UTC:20260301T133000
DTSTAMP:20260419T133359
CREATED:20251217T181223Z
LAST-MODIFIED:20260217T104936Z
UID:1461-1772364600-1772371800@exploraparquevaldebebas.es
SUMMARY:Explora Valdebebas
DESCRIPTION:🔍 Descubre los secretos de Valdebebas \nAcompáñanos en una ruta especial para explorar los rincones más mágicos del parque. 🌿✨ \n¡Déjate sorprender por la naturaleza en cada senda! 🚶‍♂️🌳 \nActividad Gratuita \n  \nInscripciones \n📩 Puedes reservar tu plaza escribiéndonos a info@exploraparquevaldebebas.es o llamando al +34 618 61 57 03 \nPor favor\, indícanos: \n✅ El nombre de la actividad y la fecha en la que deseas participar✅ Nombre completo y edad de cada participante✅ Un teléfono de contacto para confirmación
URL:https://exploraparquevaldebebas.es/agenda/explora-valdebebas-10/
LOCATION:Centro de Educacion Ambiental (CEA) del Parque Princesa Leonor\, C. de María de las Mercedes de Borbón\, 186\, Hortaleza\, Madrid\, Madrid\, 28055\, Spain
CATEGORIES:Actividad para todos los públicos
ATTACH;FMTTYPE=image/png:https://exploraparquevaldebebas.es/wp-content/uploads/2025/06/Explora-Valdebebas.png
END:VEVENT
BEGIN:VEVENT
DTSTART;TZID=UTC:20260301T160000
DTEND;TZID=UTC:20260301T173000
DTSTAMP:20260419T133359
CREATED:20251219T131313Z
LAST-MODIFIED:20251219T131313Z
UID:1507-1772380800-1772386200@exploraparquevaldebebas.es
SUMMARY:Ecoaventuras
DESCRIPTION:  \nActividad Gratuita \n  \nInscripciones \n📩 Puedes reservar tu plaza escribiéndonos a info@exploraparquevaldebebas.es o llamando al +34 618 61 57 03
URL:https://exploraparquevaldebebas.es/agenda/ecoaventuras-45/
LOCATION:Centro de Educacion Ambiental (CEA) del Parque Princesa Leonor\, C. de María de las Mercedes de Borbón\, 186\, Hortaleza\, Madrid\, Madrid\, 28055\, Spain
CATEGORIES:Actividad para mayores de 6 años
ATTACH;FMTTYPE=image/png:https://exploraparquevaldebebas.es/wp-content/uploads/2025/06/eco-aventuras.png
END:VEVENT
BEGIN:VEVENT
DTSTART;TZID=UTC:20260306T160000
DTEND;TZID=UTC:20260306T173000
DTSTAMP:20260419T133359
CREATED:20251219T131509Z
LAST-MODIFIED:20260205T183856Z
UID:1509-1772812800-1772818200@exploraparquevaldebebas.es
SUMMARY:Ecoaventuras - Dobla\, rima y recicla
DESCRIPTION:  \nActividad Gratuita \n  \nInscripciones \n📩 Puedes reservar tu plaza escribiéndonos a info@exploraparquevaldebebas.es o llamando al +34 618 61 57 03
URL:https://exploraparquevaldebebas.es/agenda/ecoaventuras-46/
LOCATION:Centro de Educacion Ambiental (CEA) del Parque Princesa Leonor\, C. de María de las Mercedes de Borbón\, 186\, Hortaleza\, Madrid\, Madrid\, 28055\, Spain
CATEGORIES:Actividad para mayores de 6 años
ATTACH;FMTTYPE=image/png:https://exploraparquevaldebebas.es/wp-content/uploads/2025/06/eco-aventuras.png
END:VEVENT
BEGIN:VEVENT
DTSTART;TZID=UTC:20260307T113000
DTEND;TZID=UTC:20260307T133000
DTSTAMP:20260419T133359
CREATED:20251219T140746Z
LAST-MODIFIED:20251219T140746Z
UID:1538-1772883000-1772890200@exploraparquevaldebebas.es
SUMMARY:Ruta ornitológica
DESCRIPTION:Actividad Gratuita \n  \nInscripciones \n📩 Puedes reservar tu plaza escribiéndonos a info@exploraparquevaldebebas.es o llamando al +34 618 61 57 03
URL:https://exploraparquevaldebebas.es/agenda/ruta-ornitologica-9/
LOCATION:Centro de Educacion Ambiental (CEA) del Parque Princesa Leonor\, C. de María de las Mercedes de Borbón\, 186\, Hortaleza\, Madrid\, Madrid\, 28055\, Spain
CATEGORIES:Actividad para adultos, (mayores de 16 años)
ATTACH;FMTTYPE=image/png:https://exploraparquevaldebebas.es/wp-content/uploads/2025/01/centro-interpretacion-Parque-Princesa-Leonor-13.png
END:VEVENT
BEGIN:VEVENT
DTSTART;TZID=UTC:20260307T160000
DTEND;TZID=UTC:20260307T173000
DTSTAMP:20260419T133359
CREATED:20251218T104909Z
LAST-MODIFIED:20251218T104909Z
UID:1490-1772899200-1772904600@exploraparquevaldebebas.es
SUMMARY:La yincana familiar de Valdebebas
DESCRIPTION:Actividad Gratuita \n  \nInscripciones \n📩 Puedes reservar tu plaza escribiéndonos a info@exploraparquevaldebebas.es o llamando al +34 618 61 57 03 \nPor favor\, indícanos: \n✅ El nombre de la actividad y la fecha en la que deseas participar✅ Nombre completo y edad de cada participante✅ Un teléfono de contacto para confirmación
URL:https://exploraparquevaldebebas.es/agenda/la-yincana-familiar-de-valdebebas-6/
LOCATION:Centro de Educacion Ambiental (CEA) del Parque Princesa Leonor\, C. de María de las Mercedes de Borbón\, 186\, Hortaleza\, Madrid\, Madrid\, 28055\, Spain
CATEGORIES:Actividad para mayores de 6 años
ATTACH;FMTTYPE=image/png:https://exploraparquevaldebebas.es/wp-content/uploads/2024/12/centro-interpretacion-Parque-Princesa-Leonor-3.png
END:VEVENT
BEGIN:VEVENT
DTSTART;TZID=UTC:20260308T113000
DTEND;TZID=UTC:20260308T130000
DTSTAMP:20260419T133359
CREATED:20251217T182628Z
LAST-MODIFIED:20251217T182628Z
UID:1469-1772969400-1772974800@exploraparquevaldebebas.es
SUMMARY:Senda animalia
DESCRIPTION:En Valdebebas se esconde un mundo oculto… el mundo de los insectos!!!\nSaldremos a explorar el arroyo de Valdehigueras en busca de pequeños invertebrados! \nActividad Gratuita \n  \nInscripciones \n📩 Puedes reservar tu plaza escribiéndonos a info@exploraparquevaldebebas.es o llamando al +34 618 61 57 03
URL:https://exploraparquevaldebebas.es/agenda/senda-animalia-3/
LOCATION:Centro de Educacion Ambiental (CEA) del Parque Princesa Leonor\, C. de María de las Mercedes de Borbón\, 186\, Hortaleza\, Madrid\, Madrid\, 28055\, Spain
CATEGORIES:Actividad para todos los públicos
ATTACH;FMTTYPE=image/png:https://exploraparquevaldebebas.es/wp-content/uploads/2025/06/animalia-1.png
END:VEVENT
BEGIN:VEVENT
DTSTART;TZID=UTC:20260308T160000
DTEND;TZID=UTC:20260308T170000
DTSTAMP:20260419T133359
CREATED:20251219T135303Z
LAST-MODIFIED:20260205T184416Z
UID:1528-1772985600-1772989200@exploraparquevaldebebas.es
SUMMARY:Cuentacuentos
DESCRIPTION:Actividad Gratuita \n  \nInscripciones \n📩 Puedes reservar tu plaza escribiéndonos a info@exploraparquevaldebebas.es o llamando al +34 618 61 57 03
URL:https://exploraparquevaldebebas.es/agenda/cuentacuentos-3/
LOCATION:Centro de Educacion Ambiental (CEA) del Parque Princesa Leonor\, C. de María de las Mercedes de Borbón\, 186\, Hortaleza\, Madrid\, Madrid\, 28055\, Spain
CATEGORIES:Actividad para mayores de 6 años
ATTACH;FMTTYPE=image/png:https://exploraparquevaldebebas.es/wp-content/uploads/2024/12/centro-interpretacion-Parque-Princesa-Leonor-7.png
END:VEVENT
BEGIN:VEVENT
DTSTART;TZID=UTC:20260313T160000
DTEND;TZID=UTC:20260313T180000
DTSTAMP:20260419T133359
CREATED:20251217T181441Z
LAST-MODIFIED:20251217T181441Z
UID:1463-1773417600-1773424800@exploraparquevaldebebas.es
SUMMARY:Explora Valdebebas
DESCRIPTION:🔍 Descubre los secretos de Valdebebas \nAcompáñanos en una ruta especial para explorar los rincones más mágicos del parque. 🌿✨ \n¡Déjate sorprender por la naturaleza en cada senda! 🚶‍♂️🌳 \nActividad Gratuita \n  \nInscripciones \n📩 Puedes reservar tu plaza escribiéndonos a info@exploraparquevaldebebas.es o llamando al +34 618 61 57 03 \nPor favor\, indícanos: \n✅ El nombre de la actividad y la fecha en la que deseas participar✅ Nombre completo y edad de cada participante✅ Un teléfono de contacto para confirmación
URL:https://exploraparquevaldebebas.es/agenda/explora-valdebebas-11/
LOCATION:Centro de Educacion Ambiental (CEA) del Parque Princesa Leonor\, C. de María de las Mercedes de Borbón\, 186\, Hortaleza\, Madrid\, Madrid\, 28055\, Spain
CATEGORIES:Actividad para todos los públicos
ATTACH;FMTTYPE=image/png:https://exploraparquevaldebebas.es/wp-content/uploads/2025/06/Explora-Valdebebas.png
END:VEVENT
BEGIN:VEVENT
DTSTART;TZID=UTC:20260314T110000
DTEND;TZID=UTC:20260314T133000
DTSTAMP:20260419T133359
CREATED:20251217T174500Z
LAST-MODIFIED:20260306T163838Z
UID:1446-1773486000-1773495000@exploraparquevaldebebas.es
SUMMARY:¿A qué huele esto? Aromas del parque
DESCRIPTION:¿A qué huele esto? Aromas del parque \nActividad Gratuita \n  \nInscripciones \n📩 Puedes reservar tu plaza escribiéndonos a info@exploraparquevaldebebas.es o llamando al +34 618 61 57 03
URL:https://exploraparquevaldebebas.es/agenda/a-que-huele-esto-aromas-del-parque-8/
LOCATION:Centro de Educacion Ambiental (CEA) del Parque Princesa Leonor\, C. de María de las Mercedes de Borbón\, 186\, Hortaleza\, Madrid\, Madrid\, 28055\, Spain
CATEGORIES:Actividad para todos los públicos
ATTACH;FMTTYPE=image/jpeg:https://exploraparquevaldebebas.es/wp-content/uploads/2025/09/centro-interpretacion-Parque-Princesa-Leonor.jpg
END:VEVENT
BEGIN:VEVENT
DTSTART;TZID=UTC:20260314T160000
DTEND;TZID=UTC:20260314T173000
DTSTAMP:20260419T133359
CREATED:20251219T133933Z
LAST-MODIFIED:20251219T133933Z
UID:1522-1773504000-1773509400@exploraparquevaldebebas.es
SUMMARY:Senda ¿quién vive dónde?
DESCRIPTION:Actividad Gratuita \n  \nInscripciones  \n📩 Puedes reservar tu plaza escribiéndonos a info@exploraparquevaldebebas.es o llamando al +34 618 61 57 03
URL:https://exploraparquevaldebebas.es/agenda/senda-quien-vive-donde-3/
LOCATION:Centro de Educacion Ambiental (CEA) del Parque Princesa Leonor\, C. de María de las Mercedes de Borbón\, 186\, Hortaleza\, Madrid\, Madrid\, 28055\, Spain
CATEGORIES:Actividad para mayores de 6 años
ATTACH;FMTTYPE=image/png:https://exploraparquevaldebebas.es/wp-content/uploads/2025/12/senda-donde-y-quien-esta-ahi.png
END:VEVENT
BEGIN:VEVENT
DTSTART;TZID=UTC:20260315T113000
DTEND;TZID=UTC:20260315T130000
DTSTAMP:20260419T133359
CREATED:20251219T131627Z
LAST-MODIFIED:20260306T164032Z
UID:1511-1773574200-1773579600@exploraparquevaldebebas.es
SUMMARY:Ecoaventuras semillas
DESCRIPTION:  \nActividad Gratuita \n  \nInscripciones \n📩 Puedes reservar tu plaza escribiéndonos a info@exploraparquevaldebebas.es o llamando al +34 618 61 57 03
URL:https://exploraparquevaldebebas.es/agenda/ecoaventuras-47/
LOCATION:Centro de Educacion Ambiental (CEA) del Parque Princesa Leonor\, C. de María de las Mercedes de Borbón\, 186\, Hortaleza\, Madrid\, Madrid\, 28055\, Spain
CATEGORIES:Actividad para mayores de 6 años
ATTACH;FMTTYPE=image/png:https://exploraparquevaldebebas.es/wp-content/uploads/2025/06/eco-aventuras.png
END:VEVENT
BEGIN:VEVENT
DTSTART;TZID=UTC:20260315T160000
DTEND;TZID=UTC:20260315T173000
DTSTAMP:20260419T133359
CREATED:20251217T180728Z
LAST-MODIFIED:20251217T180728Z
UID:1455-1773590400-1773595800@exploraparquevaldebebas.es
SUMMARY:Senda pequeños habitantes
DESCRIPTION:Actividad Gratuita \n  \nInscripciones \n📩 Puedes reservar tu plaza escribiéndonos a info@exploraparquevaldebebas.es o llamando al +34 618 61 57 03
URL:https://exploraparquevaldebebas.es/agenda/senda-pequenos-habitantes-3/
LOCATION:Centro de Educacion Ambiental (CEA) del Parque Princesa Leonor\, C. de María de las Mercedes de Borbón\, 186\, Hortaleza\, Madrid\, Madrid\, 28055\, Spain
CATEGORIES:Actividad para todos los públicos
ATTACH;FMTTYPE=image/png:https://exploraparquevaldebebas.es/wp-content/uploads/2025/12/pequenos-habitantes.png
END:VEVENT
BEGIN:VEVENT
DTSTART;TZID=UTC:20260320T160000
DTEND;TZID=UTC:20260320T180000
DTSTAMP:20260419T133359
CREATED:20251217T182734Z
LAST-MODIFIED:20251217T182734Z
UID:1471-1774022400-1774029600@exploraparquevaldebebas.es
SUMMARY:Senda animalia
DESCRIPTION:En Valdebebas se esconde un mundo oculto… el mundo de los insectos!!!\nSaldremos a explorar el arroyo de Valdehigueras en busca de pequeños invertebrados! \nActividad Gratuita \n  \nInscripciones \n📩 Puedes reservar tu plaza escribiéndonos a info@exploraparquevaldebebas.es o llamando al +34 618 61 57 03
URL:https://exploraparquevaldebebas.es/agenda/senda-animalia-4/
LOCATION:Centro de Educacion Ambiental (CEA) del Parque Princesa Leonor\, C. de María de las Mercedes de Borbón\, 186\, Hortaleza\, Madrid\, Madrid\, 28055\, Spain
CATEGORIES:Actividad para todos los públicos
ATTACH;FMTTYPE=image/png:https://exploraparquevaldebebas.es/wp-content/uploads/2025/06/animalia-1.png
END:VEVENT
BEGIN:VEVENT
DTSTART;TZID=UTC:20260321T113000
DTEND;TZID=UTC:20260321T133000
DTSTAMP:20260419T133359
CREATED:20251219T144446Z
LAST-MODIFIED:20251219T144446Z
UID:1559-1774092600-1774099800@exploraparquevaldebebas.es
SUMMARY:Senda botánica
DESCRIPTION:Actividad Gratuita \n  \nInscripciones \n📩 Puedes reservar tu plaza escribiéndonos a info@exploraparquevaldebebas.es o llamando al +34 618 61 57 03
URL:https://exploraparquevaldebebas.es/agenda/senda-botanica-3/
LOCATION:Centro de Educacion Ambiental (CEA) del Parque Princesa Leonor\, C. de María de las Mercedes de Borbón\, 186\, Hortaleza\, Madrid\, Madrid\, 28055\, Spain
CATEGORIES:Actividad para adultos, (mayores de 16 años)
ATTACH;FMTTYPE=image/png:https://exploraparquevaldebebas.es/wp-content/uploads/2025/12/Senda-botanica.png
END:VEVENT
BEGIN:VEVENT
DTSTART;TZID=UTC:20260321T160000
DTEND;TZID=UTC:20260321T173000
DTSTAMP:20260419T133359
CREATED:20251219T141446Z
LAST-MODIFIED:20251219T141446Z
UID:1545-1774108800-1774114200@exploraparquevaldebebas.es
SUMMARY:Ciencia ciudadana
DESCRIPTION:Actividad Gratuita \n  \nInscripciones \n📩 Puedes reservar tu plaza escribiéndonos a info@exploraparquevaldebebas.es o llamando al +34 618 61 57 03
URL:https://exploraparquevaldebebas.es/agenda/ciencia-ciudadana-3/
LOCATION:Centro de Educacion Ambiental (CEA) del Parque Princesa Leonor\, C. de María de las Mercedes de Borbón\, 186\, Hortaleza\, Madrid\, Madrid\, 28055\, Spain
CATEGORIES:Actividad para adultos, (mayores de 16 años)
ATTACH;FMTTYPE=image/png:https://exploraparquevaldebebas.es/wp-content/uploads/2025/12/ciencia.png
END:VEVENT
BEGIN:VEVENT
DTSTART;TZID=UTC:20260322T113000
DTEND;TZID=UTC:20260322T130000
DTSTAMP:20260419T133359
CREATED:20251219T131955Z
LAST-MODIFIED:20260306T164422Z
UID:1513-1774179000-1774184400@exploraparquevaldebebas.es
SUMMARY:Ecoaventuras\, la ciudad que queremos
DESCRIPTION:  \nActividad Gratuita \n  \nInscripciones \n📩 Puedes reservar tu plaza escribiéndonos a info@exploraparquevaldebebas.es o llamando al +34 618 61 57 03
URL:https://exploraparquevaldebebas.es/agenda/ecoaventuras-48/
LOCATION:Centro de Educacion Ambiental (CEA) del Parque Princesa Leonor\, C. de María de las Mercedes de Borbón\, 186\, Hortaleza\, Madrid\, Madrid\, 28055\, Spain
CATEGORIES:Actividad para mayores de 6 años
ATTACH;FMTTYPE=image/png:https://exploraparquevaldebebas.es/wp-content/uploads/2025/06/eco-aventuras.png
END:VEVENT
BEGIN:VEVENT
DTSTART;TZID=UTC:20260322T160000
DTEND;TZID=UTC:20260322T170000
DTSTAMP:20260419T133359
CREATED:20251219T140101Z
LAST-MODIFIED:20251219T140101Z
UID:1532-1774195200-1774198800@exploraparquevaldebebas.es
SUMMARY:Cuentacuentos
DESCRIPTION:Actividad Gratuita \n  \nInscripciones \n📩 Puedes reservar tu plaza escribiéndonos a info@exploraparquevaldebebas.es o llamando al +34 618 61 57 03
URL:https://exploraparquevaldebebas.es/agenda/cuentacuentos-5/
LOCATION:Centro de Educacion Ambiental (CEA) del Parque Princesa Leonor\, C. de María de las Mercedes de Borbón\, 186\, Hortaleza\, Madrid\, Madrid\, 28055\, Spain
CATEGORIES:Actividad para mayores de 6 años
ATTACH;FMTTYPE=image/png:https://exploraparquevaldebebas.es/wp-content/uploads/2024/12/centro-interpretacion-Parque-Princesa-Leonor-7.png
END:VEVENT
BEGIN:VEVENT
DTSTART;TZID=UTC:20260327T113000
DTEND;TZID=UTC:20260327T133000
DTSTAMP:20260419T133359
CREATED:20251217T171242Z
LAST-MODIFIED:20260306T164544Z
UID:1440-1774611000-1774618200@exploraparquevaldebebas.es
SUMMARY:Senda de las ovejas
DESCRIPTION:Se ruega no traer perros a la senda. Gracias \n  \nActividad Gratuita \n  \nInscripciones \n📩 Puedes reservar tu plaza escribiéndonos a info@exploraparquevaldebebas.es o llamando al +34 618 61 57 03
URL:https://exploraparquevaldebebas.es/agenda/senda-de-las-ovejas-3/
LOCATION:Centro de Educacion Ambiental (CEA) del Parque Princesa Leonor\, C. de María de las Mercedes de Borbón\, 186\, Hortaleza\, Madrid\, Madrid\, 28055\, Spain
CATEGORIES:Actividad para todos los públicos
ATTACH;FMTTYPE=image/png:https://exploraparquevaldebebas.es/wp-content/uploads/2025/12/senda-de-las-ovejas.png
END:VEVENT
BEGIN:VEVENT
DTSTART;TZID=UTC:20260327T160000
DTEND;TZID=UTC:20260327T173000
DTSTAMP:20260419T133359
CREATED:20251223T120426Z
LAST-MODIFIED:20251223T120426Z
UID:1564-1774627200-1774632600@exploraparquevaldebebas.es
SUMMARY:Hotel de insectos
DESCRIPTION:Actividad Gratuita \n  \nInscripciones \n📩 Puedes reservar tu plaza escribiéndonos a info@exploraparquevaldebebas.es o llamando al +34 618 61 57 03
URL:https://exploraparquevaldebebas.es/agenda/hotel-de-insectos-2/
LOCATION:Centro de Educacion Ambiental (CEA) del Parque Princesa Leonor\, C. de María de las Mercedes de Borbón\, 186\, Hortaleza\, Madrid\, Madrid\, 28055\, Spain
CATEGORIES:Actividad para mayores de 3 años
ATTACH;FMTTYPE=image/png:https://exploraparquevaldebebas.es/wp-content/uploads/2025/12/Hotel-Insectos.png
END:VEVENT
BEGIN:VEVENT
DTSTART;TZID=UTC:20260328T113000
DTEND;TZID=UTC:20260328T133000
DTSTAMP:20260419T133359
CREATED:20251219T143848Z
LAST-MODIFIED:20251219T143848Z
UID:1552-1774697400-1774704600@exploraparquevaldebebas.es
SUMMARY:Senda de la trashumancia
DESCRIPTION:Actividad Gratuita \n  \nInscripciones \n📩 Puedes reservar tu plaza escribiéndonos a info@exploraparquevaldebebas.es o llamando al +34 618 61 57 03
URL:https://exploraparquevaldebebas.es/agenda/senda-de-la-trashumancia-3/
LOCATION:Centro de Educacion Ambiental (CEA) del Parque Princesa Leonor\, C. de María de las Mercedes de Borbón\, 186\, Hortaleza\, Madrid\, Madrid\, 28055\, Spain
CATEGORIES:Actividad para adultos, (mayores de 16 años)
ATTACH;FMTTYPE=image/png:https://exploraparquevaldebebas.es/wp-content/uploads/2025/12/centro-interpretacion-Parque-Princesa-Leonor-18.png
END:VEVENT
BEGIN:VEVENT
DTSTART;TZID=UTC:20260328T160000
DTEND;TZID=UTC:20260328T180000
DTSTAMP:20260419T133359
CREATED:20251218T102304Z
LAST-MODIFIED:20260306T164728Z
UID:1477-1774713600-1774720800@exploraparquevaldebebas.es
SUMMARY:Ruta ornitológica
DESCRIPTION:🦆 Conoce a los habitantes de Valdebebas \nÚnete a un paseo para descubrir las aves y otras especies que habitan el parque. 🌳✨ \n¡Observa\, aprende y disfruta de la naturaleza en su estado más vivo! 🦜🔎 \nActividad Gratuita \n  \nInscripciones \n📩 Puedes reservar tu plaza escribiéndonos a info@exploraparquevaldebebas.es o llamando al +34 618 61 57 03 \nPor favor\, indícanos: \n✅ El nombre de la actividad y la fecha en la que deseas participar✅ Nombre completo y edad de cada participante✅ Un teléfono de contacto para confirmación
URL:https://exploraparquevaldebebas.es/agenda/ruta-ornitologica-6/
LOCATION:Centro de Educacion Ambiental (CEA) del Parque Princesa Leonor\, C. de María de las Mercedes de Borbón\, 186\, Hortaleza\, Madrid\, Madrid\, 28055\, Spain
CATEGORIES:Actividad para todos los públicos
ATTACH;FMTTYPE=image/png:https://exploraparquevaldebebas.es/wp-content/uploads/2025/01/centro-interpretacion-Parque-Princesa-Leonor-13.png
END:VEVENT
BEGIN:VEVENT
DTSTART;TZID=UTC:20260329T113000
DTEND;TZID=UTC:20260329T133000
DTSTAMP:20260419T133359
CREATED:20251218T103947Z
LAST-MODIFIED:20260306T164958Z
UID:1484-1774783800-1774791000@exploraparquevaldebebas.es
SUMMARY:Senda Virgen del Abrazo
DESCRIPTION:Actividad Gratuita \n  \nInscripciones \n📩 Puedes reservar tu plaza escribiéndonos a info@exploraparquevaldebebas.es o llamando al +34 618 61 57 03
URL:https://exploraparquevaldebebas.es/agenda/senda-virgen-del-abrazo-3/
LOCATION:Centro de Educacion Ambiental (CEA) del Parque Princesa Leonor\, C. de María de las Mercedes de Borbón\, 186\, Hortaleza\, Madrid\, Madrid\, 28055\, Spain
CATEGORIES:Actividad para todos los públicos
ATTACH;FMTTYPE=image/png:https://exploraparquevaldebebas.es/wp-content/uploads/2025/12/virgen-del-abrazo.png
END:VEVENT
BEGIN:VEVENT
DTSTART;TZID=UTC:20260329T160000
DTEND;TZID=UTC:20260329T173000
DTSTAMP:20260419T133359
CREATED:20251218T105022Z
LAST-MODIFIED:20251218T105023Z
UID:1492-1774800000-1774805400@exploraparquevaldebebas.es
SUMMARY:La yincana familiar de Valdebebas
DESCRIPTION:Actividad Gratuita \n  \nInscripciones \n📩 Puedes reservar tu plaza escribiéndonos a info@exploraparquevaldebebas.es o llamando al +34 618 61 57 03 \nPor favor\, indícanos: \n✅ El nombre de la actividad y la fecha en la que deseas participar✅ Nombre completo y edad de cada participante✅ Un teléfono de contacto para confirmación
URL:https://exploraparquevaldebebas.es/agenda/la-yincana-familiar-de-valdebebas-7/
LOCATION:Centro de Educacion Ambiental (CEA) del Parque Princesa Leonor\, C. de María de las Mercedes de Borbón\, 186\, Hortaleza\, Madrid\, Madrid\, 28055\, Spain
CATEGORIES:Actividad para mayores de 6 años
ATTACH;FMTTYPE=image/png:https://exploraparquevaldebebas.es/wp-content/uploads/2024/12/centro-interpretacion-Parque-Princesa-Leonor-3.png
END:VEVENT
BEGIN:VEVENT
DTSTART;TZID=UTC:20260331T113000
DTEND;TZID=UTC:20260331T133000
DTSTAMP:20260419T133359
CREATED:20251217T173902Z
LAST-MODIFIED:20260306T165245Z
UID:1442-1774956600-1774963800@exploraparquevaldebebas.es
SUMMARY:Senda de las ovejas
DESCRIPTION:Se ruega no traer perros a la senda. Gracias \n  \nActividad Gratuita \n  \nInscripciones \n📩 Puedes reservar tu plaza escribiéndonos a info@exploraparquevaldebebas.es o llamando al +34 618 61 57 03
URL:https://exploraparquevaldebebas.es/agenda/senda-de-las-ovejas-4/
LOCATION:Centro de Educacion Ambiental (CEA) del Parque Princesa Leonor\, C. de María de las Mercedes de Borbón\, 186\, Hortaleza\, Madrid\, Madrid\, 28055\, Spain
CATEGORIES:Actividad para todos los públicos
ATTACH;FMTTYPE=image/png:https://exploraparquevaldebebas.es/wp-content/uploads/2025/12/senda-de-las-ovejas.png
END:VEVENT
END:VCALENDAR