BEGIN:VCALENDAR
VERSION:2.0
PRODID:-//Explora Parque Valdebebas - ECPv6.15.20//NONSGML v1.0//EN
CALSCALE:GREGORIAN
METHOD:PUBLISH
X-WR-CALNAME:Explora Parque Valdebebas
X-ORIGINAL-URL:https://exploraparquevaldebebas.es
X-WR-CALDESC:Eventos para Explora Parque Valdebebas
REFRESH-INTERVAL;VALUE=DURATION:PT1H
X-Robots-Tag:noindex
X-PUBLISHED-TTL:PT1H
BEGIN:VTIMEZONE
TZID:UTC
BEGIN:STANDARD
TZOFFSETFROM:+0000
TZOFFSETTO:+0000
TZNAME:UTC
DTSTART:20240101T000000
END:STANDARD
END:VTIMEZONE
BEGIN:VEVENT
DTSTART;TZID=UTC:20250404T173000
DTEND;TZID=UTC:20250404T193000
DTSTAMP:20260419T163754
CREATED:20250130T104030Z
LAST-MODIFIED:20250325T164448Z
UID:757-1743787800-1743795000@exploraparquevaldebebas.es
SUMMARY:Plantas con poder. Comestibles
DESCRIPTION:🌿 Un paseo entre sabores y naturaleza \nExplora los senderos del parque y descubre las plantas que nos rodean y sus usos culinarios. 🍃🥗 \n¡Aprende y disfruta de la naturaleza en cada paso! 🚶‍♂️✨ \n  \nActividad Gratuita
URL:https://exploraparquevaldebebas.es/agenda/plantas-con-poder-comestibles-6/
LOCATION:Centro de Educacion Ambiental (CEA) del Parque Princesa Leonor\, C. de María de las Mercedes de Borbón\, 186\, Hortaleza\, Madrid\, Madrid\, 28055\, Spain
CATEGORIES:Actividad para adultos, (mayores de 16 años)
ATTACH;FMTTYPE=image/png:https://exploraparquevaldebebas.es/wp-content/uploads/2025/01/centro-interpretacion-Parque-Princesa-Leonor-16.png
END:VEVENT
BEGIN:VEVENT
DTSTART;TZID=UTC:20250405T113000
DTEND;TZID=UTC:20250405T130000
DTSTAMP:20260419T163754
CREATED:20250122T184123Z
LAST-MODIFIED:20250312T121842Z
UID:571-1743852600-1743858000@exploraparquevaldebebas.es
SUMMARY:Rutas y retos: la Gincana familiar de Valdebebas
DESCRIPTION:🔍 Explora y compite en Valdebebas \nForma tu equipo y disfruta de un juego de orientación lleno de retos y diversión. Descubre el parque mientras superas pruebas y trabajas en equipo. \n¡Vive una aventura única en la naturaleza! 🌿🏆 \n  \nActividad Gratuita
URL:https://exploraparquevaldebebas.es/agenda/rutas-y-retos-la-gincana-familiar-de-valdebebas/
LOCATION:Centro de Educacion Ambiental (CEA) del Parque Princesa Leonor\, C. de María de las Mercedes de Borbón\, 186\, Hortaleza\, Madrid\, Madrid\, 28055\, Spain
CATEGORIES:Actividad para mayores de 6 años
ATTACH;FMTTYPE=image/png:https://exploraparquevaldebebas.es/wp-content/uploads/2024/12/centro-interpretacion-Parque-Princesa-Leonor-3.png
END:VEVENT
BEGIN:VEVENT
DTSTART;TZID=UTC:20250405T173000
DTEND;TZID=UTC:20250405T190000
DTSTAMP:20260419T163754
CREATED:20241216T145205Z
LAST-MODIFIED:20250312T122143Z
UID:165-1743874200-1743879600@exploraparquevaldebebas.es
SUMMARY:Explora Valdebebas
DESCRIPTION:🔍 Descubre los secretos de Valdebebas \nAcompáñanos en una ruta especial para explorar los rincones más mágicos del parque. 🌿✨ \n¡Déjate sorprender por la naturaleza en cada senda! 🚶‍♂️🌳 \n  \nActividad Gratuita
URL:https://exploraparquevaldebebas.es/agenda/explora-valdebebas-2/
LOCATION:Centro de Educacion Ambiental (CEA) del Parque Princesa Leonor\, C. de María de las Mercedes de Borbón\, 186\, Hortaleza\, Madrid\, Madrid\, 28055\, Spain
CATEGORIES:Actividad para todos los públicos
ATTACH;FMTTYPE=image/png:https://exploraparquevaldebebas.es/wp-content/uploads/2024/12/centro-interpretacion-Parque-Princesa-Leonor-5.png
END:VEVENT
BEGIN:VEVENT
DTSTART;TZID=UTC:20250406T113000
DTEND;TZID=UTC:20250406T130000
DTSTAMP:20260419T163754
CREATED:20250122T202302Z
LAST-MODIFIED:20250312T122245Z
UID:588-1743939000-1743944400@exploraparquevaldebebas.es
SUMMARY:Ecoaventuras en Valdebebas (Biodiversidad)
DESCRIPTION:🌿 Explora los ecosistemas de Valdebebas \nRecorre el parque y descubre la biodiversidad que lo hace único. 🚶‍♂️🌳 \n¡Aprende sobre sus ecosistemas mientras disfrutas de un paseo lleno de naturaleza y diversión! 🍃 \n  \nActividad Gratuita
URL:https://exploraparquevaldebebas.es/agenda/ecoaventuras-biodiversidad/
LOCATION:Centro de Educacion Ambiental (CEA) del Parque Princesa Leonor\, C. de María de las Mercedes de Borbón\, 186\, Hortaleza\, Madrid\, Madrid\, 28055\, Spain
CATEGORIES:Actividad para mayores de 6 años
ATTACH;FMTTYPE=image/png:https://exploraparquevaldebebas.es/wp-content/uploads/2024/12/centro-interpretacion-Parque-Princesa-Leonor-8.png
END:VEVENT
BEGIN:VEVENT
DTSTART;TZID=UTC:20250411T173000
DTEND;TZID=UTC:20250411T190000
DTSTAMP:20260419T163754
CREATED:20250130T111920Z
LAST-MODIFIED:20250407T161255Z
UID:778-1744392600-1744398000@exploraparquevaldebebas.es
SUMMARY:Ecoaventuras en Valdebebas (Biodiversidad)
DESCRIPTION:🌿 Explora los ecosistemas de Valdebebas \nRecorre el parque y descubre la biodiversidad que lo hace único. 🚶‍♂️🌳 \n¡Aprende sobre sus ecosistemas mientras disfrutas de un paseo lleno de naturaleza y diversión! 🍃
URL:https://exploraparquevaldebebas.es/agenda/ecoaventuras-en-valdebebas-biodiversidad/
LOCATION:Centro de Educacion Ambiental (CEA) del Parque Princesa Leonor\, C. de María de las Mercedes de Borbón\, 186\, Hortaleza\, Madrid\, Madrid\, 28055\, Spain
CATEGORIES:Actividad para mayores de 6 años
ATTACH;FMTTYPE=image/png:https://exploraparquevaldebebas.es/wp-content/uploads/2024/12/centro-interpretacion-Parque-Princesa-Leonor-8.png
END:VEVENT
BEGIN:VEVENT
DTSTART;TZID=UTC:20250412T103000
DTEND;TZID=UTC:20250412T123000
DTSTAMP:20260419T163754
CREATED:20250123T074706Z
LAST-MODIFIED:20250324T122300Z
UID:639-1744453800-1744461000@exploraparquevaldebebas.es
SUMMARY:Ruta ornitológica
DESCRIPTION:🦆 Conoce a los habitantes de Valdebebas \nÚnete a un paseo para descubrir las aves y otras especies que habitan el parque. 🌳✨ \n¡Observa\, aprende y disfruta de la naturaleza en su estado más vivo! 🦜🔎 \nActividad Gratuita
URL:https://exploraparquevaldebebas.es/agenda/ruta-ornitologica/
LOCATION:Centro de Educacion Ambiental (CEA) del Parque Princesa Leonor\, C. de María de las Mercedes de Borbón\, 186\, Hortaleza\, Madrid\, Madrid\, 28055\, Spain
CATEGORIES:Actividad para adultos, (mayores de 16 años)
ATTACH;FMTTYPE=image/png:https://exploraparquevaldebebas.es/wp-content/uploads/2025/01/centro-interpretacion-Parque-Princesa-Leonor-13.png
END:VEVENT
BEGIN:VEVENT
DTSTART;TZID=UTC:20250412T173000
DTEND;TZID=UTC:20250412T193000
DTSTAMP:20260419T163754
CREATED:20250409T090151Z
LAST-MODIFIED:20250409T090151Z
UID:924-1744479000-1744486200@exploraparquevaldebebas.es
SUMMARY:Ruta del abrazo
DESCRIPTION:🌿 Explora un rincón único de Valdebebas \nAcompáñanos en un paseo especial y descubre los elementos paisajísticos que hacen de este lugar un espacio único. ✨🌳 \n¡Déjate sorprender por la belleza del entorno! 🚶‍♂️🍃
URL:https://exploraparquevaldebebas.es/agenda/ruta-del-abrazo-6/
LOCATION:Centro de Educacion Ambiental (CEA) del Parque Princesa Leonor\, C. de María de las Mercedes de Borbón\, 186\, Hortaleza\, Madrid\, Madrid\, 28055\, Spain
CATEGORIES:Actividad para todos los públicos
ATTACH;FMTTYPE=image/png:https://exploraparquevaldebebas.es/wp-content/uploads/2025/01/centro-interpretacion-Parque-Princesa-Leonor-10.png
END:VEVENT
BEGIN:VEVENT
DTSTART;TZID=UTC:20250413T113000
DTEND;TZID=UTC:20250413T130000
DTSTAMP:20260419T163754
CREATED:20250122T201022Z
LAST-MODIFIED:20250324T122337Z
UID:573-1744543800-1744549200@exploraparquevaldebebas.es
SUMMARY:Rutas y retos: la Gincana familiar de Valdebebas
DESCRIPTION:🔍 Explora y compite en Valdebebas \nForma tu equipo y disfruta de un juego de orientación lleno de retos y diversión. Descubre el parque mientras superas pruebas y trabajas en equipo. \n¡Vive una aventura única en la naturaleza! 🌿🏆 \n  \nActividad Gratuita
URL:https://exploraparquevaldebebas.es/agenda/rutas-y-retos-la-gincana-familiar-de-valdebebas-2/
LOCATION:Centro de Educacion Ambiental (CEA) del Parque Princesa Leonor\, C. de María de las Mercedes de Borbón\, 186\, Hortaleza\, Madrid\, Madrid\, 28055\, Spain
CATEGORIES:Actividad para mayores de 6 años
ATTACH;FMTTYPE=image/png:https://exploraparquevaldebebas.es/wp-content/uploads/2024/12/centro-interpretacion-Parque-Princesa-Leonor-3.png
END:VEVENT
BEGIN:VEVENT
DTSTART;TZID=UTC:20250417T173000
DTEND;TZID=UTC:20250417T190000
DTSTAMP:20260419T163754
CREATED:20250123T080540Z
LAST-MODIFIED:20250324T122418Z
UID:650-1744911000-1744916400@exploraparquevaldebebas.es
SUMMARY:Rutas y Retos de Pascua
DESCRIPTION:🥚🔍 ¡Encuentra el huevo de Pascua perdido! \nForma tu equipo y participa en un emocionante juego de orientación\, resolviendo retos mientras exploras el Parque de Valdebebas. 🌿🏆 \n¡Vive una aventura única y descubre todos sus secretos! 🚀✨ \n  \nActividad Gratuita
URL:https://exploraparquevaldebebas.es/agenda/rutas-y-retos-de-pascua-2/
LOCATION:Centro de Educacion Ambiental (CEA) del Parque Princesa Leonor\, C. de María de las Mercedes de Borbón\, 186\, Hortaleza\, Madrid\, Madrid\, 28055\, Spain
CATEGORIES:Actividad para todos los públicos
ATTACH;FMTTYPE=image/png:https://exploraparquevaldebebas.es/wp-content/uploads/2025/01/centro-interpretacion-Parque-Princesa-Leonor-15.png
END:VEVENT
BEGIN:VEVENT
DTSTART;TZID=UTC:20250418T113000
DTEND;TZID=UTC:20250418T130000
DTSTAMP:20260419T163754
CREATED:20250123T075804Z
LAST-MODIFIED:20250324T122450Z
UID:642-1744975800-1744981200@exploraparquevaldebebas.es
SUMMARY:Guardianes del planeta. Día de la Tierra
DESCRIPTION:🌍 Celebra el Día de la Tierra con nosotros \nDisfruta de juegos y actividades en la naturaleza para aprender y conectar con el planeta. 🌿✨ \n¡Ven a vivir un día lleno de diversión y conciencia ambiental! 🌱♻️ \n  \nActividad Gratuita
URL:https://exploraparquevaldebebas.es/agenda/guardianes-del-planeta-dia-de-la-tierra/
LOCATION:Centro de Educacion Ambiental (CEA) del Parque Princesa Leonor\, C. de María de las Mercedes de Borbón\, 186\, Hortaleza\, Madrid\, Madrid\, 28055\, Spain
CATEGORIES:Actividad para mayores de 6 años
ATTACH;FMTTYPE=image/png:https://exploraparquevaldebebas.es/wp-content/uploads/2025/01/centro-interpretacion-Parque-Princesa-Leonor-14.png
END:VEVENT
BEGIN:VEVENT
DTSTART;TZID=UTC:20250418T173000
DTEND;TZID=UTC:20250418T193000
DTSTAMP:20260419T163754
CREATED:20250123T081050Z
LAST-MODIFIED:20250324T122516Z
UID:652-1744997400-1745004600@exploraparquevaldebebas.es
SUMMARY:Plantas con poder. Comestibles
DESCRIPTION:🌿 Un paseo entre sabores y naturaleza \nExplora los senderos del parque y descubre las plantas que nos rodean y sus usos culinarios. 🍃🥗 \n¡Aprende y disfruta de la naturaleza en cada paso! 🚶‍♂️✨ \n  \nActividad Gratuita
URL:https://exploraparquevaldebebas.es/agenda/plantas-con-poder-comestibles/
LOCATION:Centro de Educacion Ambiental (CEA) del Parque Princesa Leonor\, C. de María de las Mercedes de Borbón\, 186\, Hortaleza\, Madrid\, Madrid\, 28055\, Spain
CATEGORIES:Actividad para adultos, (mayores de 16 años)
ATTACH;FMTTYPE=image/png:https://exploraparquevaldebebas.es/wp-content/uploads/2025/01/centro-interpretacion-Parque-Princesa-Leonor-16.png
END:VEVENT
BEGIN:VEVENT
DTSTART;TZID=UTC:20250419T173000
DTEND;TZID=UTC:20250419T190000
DTSTAMP:20260419T163754
CREATED:20241217T081207Z
LAST-MODIFIED:20250324T122551Z
UID:202-1745083800-1745089200@exploraparquevaldebebas.es
SUMMARY:Explora Valdebebas
DESCRIPTION:🔍 Descubre los secretos de Valdebebas \nAcompáñanos en una ruta especial para explorar los rincones más mágicos del parque. 🌿✨ \n¡Déjate sorprender por la naturaleza en cada senda! 🚶‍♂️🌳 \n  \nActividad Gratuita
URL:https://exploraparquevaldebebas.es/agenda/explora-valdebebas/
LOCATION:Centro de Educacion Ambiental (CEA) del Parque Princesa Leonor\, C. de María de las Mercedes de Borbón\, 186\, Hortaleza\, Madrid\, Madrid\, 28055\, Spain
CATEGORIES:Actividad para todos los públicos
ATTACH;FMTTYPE=image/png:https://exploraparquevaldebebas.es/wp-content/uploads/2024/12/centro-interpretacion-Parque-Princesa-Leonor-5.png
END:VEVENT
BEGIN:VEVENT
DTSTART;TZID=UTC:20250420T113000
DTEND;TZID=UTC:20250420T130000
DTSTAMP:20260419T163754
CREATED:20250123T080427Z
LAST-MODIFIED:20250324T122624Z
UID:647-1745148600-1745154000@exploraparquevaldebebas.es
SUMMARY:Rutas y Retos de Pascua
DESCRIPTION:🥚🔍 ¡Encuentra el huevo de Pascua perdido! \nForma tu equipo y participa en este juego de orientación\, resolviendo retos mientras exploras el Parque de Valdebebas. 🌿🏆 \n¡Vive una aventura única y descubre todos sus secretos! 🚀✨ \n  \nActividad Gratuita
URL:https://exploraparquevaldebebas.es/agenda/rutas-y-retos-de-pascua/
LOCATION:Centro de Educacion Ambiental (CEA) del Parque Princesa Leonor\, C. de María de las Mercedes de Borbón\, 186\, Hortaleza\, Madrid\, Madrid\, 28055\, Spain
CATEGORIES:Actividad para mayores de 6 años
ATTACH;FMTTYPE=image/png:https://exploraparquevaldebebas.es/wp-content/uploads/2025/01/centro-interpretacion-Parque-Princesa-Leonor-15.png
END:VEVENT
BEGIN:VEVENT
DTSTART;TZID=UTC:20250420T173000
DTEND;TZID=UTC:20250420T190000
DTSTAMP:20260419T163754
CREATED:20250123T075909Z
LAST-MODIFIED:20250324T122654Z
UID:645-1745170200-1745175600@exploraparquevaldebebas.es
SUMMARY:Guardianes del planeta. Día de la Tierra
DESCRIPTION:🌍 Celebra el Día de la Tierra con nosotros \nDisfruta de juegos y actividades en la naturaleza para aprender y conectar con el planeta. 🌿✨ \n¡Ven a vivir un día lleno de diversión y conciencia ambiental! 🌱♻️ \n  \nActividad Gratuita
URL:https://exploraparquevaldebebas.es/agenda/guardianes-del-planeta-dia-de-la-tierra-2/
LOCATION:Centro de Educacion Ambiental (CEA) del Parque Princesa Leonor\, C. de María de las Mercedes de Borbón\, 186\, Hortaleza\, Madrid\, Madrid\, 28055\, Spain
CATEGORIES:Actividad para mayores de 6 años
ATTACH;FMTTYPE=image/png:https://exploraparquevaldebebas.es/wp-content/uploads/2025/01/centro-interpretacion-Parque-Princesa-Leonor-14.png
END:VEVENT
BEGIN:VEVENT
DTSTART;TZID=UTC:20250426T113000
DTEND;TZID=UTC:20250426T130000
DTSTAMP:20260419T163754
CREATED:20250123T082500Z
LAST-MODIFIED:20250324T122732Z
UID:664-1745667000-1745672400@exploraparquevaldebebas.es
SUMMARY:Silencio se juega. Día ruido
DESCRIPTION:🎧 ¿Has oído un ruido? \nSumérgete en una experiencia sensorial y divertida con juegos y manualidades para reflexionar sobre la contaminación acústica. 🌍🔊 \n¡Descubre el sonido de la naturaleza y aprende a protegerlo! 🍃✨ \n  \nActividad Gratuita
URL:https://exploraparquevaldebebas.es/agenda/silencio-se-juega-dia-ruido/
LOCATION:Centro de Educacion Ambiental (CEA) del Parque Princesa Leonor\, C. de María de las Mercedes de Borbón\, 186\, Hortaleza\, Madrid\, Madrid\, 28055\, Spain
CATEGORIES:Actividad para mayores de 6 años
ATTACH;FMTTYPE=image/png:https://exploraparquevaldebebas.es/wp-content/uploads/2024/12/centro-interpretacion-Parque-Princesa-Leonor-9.png
END:VEVENT
BEGIN:VEVENT
DTSTART;TZID=UTC:20250426T173000
DTEND;TZID=UTC:20250426T190000
DTSTAMP:20260419T163754
CREATED:20250122T203440Z
LAST-MODIFIED:20250324T122802Z
UID:602-1745688600-1745694000@exploraparquevaldebebas.es
SUMMARY:Ecoaventuras en Valdebebas (biodiversidad)
DESCRIPTION:🌿 Explora los ecosistemas de Valdebebas \nRecorre el parque y descubre la biodiversidad que lo hace único. 🚶‍♂️🌳 \n¡Aprende sobre sus ecosistemas mientras disfrutas de un paseo lleno de naturaleza y diversión! 🍃 \n  \nActividad Gratuita
URL:https://exploraparquevaldebebas.es/agenda/ecoaventuras-biodiversidad-2/
LOCATION:Centro de Educacion Ambiental (CEA) del Parque Princesa Leonor\, C. de María de las Mercedes de Borbón\, 186\, Hortaleza\, Madrid\, Madrid\, 28055\, Spain
CATEGORIES:Actividad para mayores de 6 años
ATTACH;FMTTYPE=image/png:https://exploraparquevaldebebas.es/wp-content/uploads/2024/12/centro-interpretacion-Parque-Princesa-Leonor-8.png
END:VEVENT
BEGIN:VEVENT
DTSTART;TZID=UTC:20250427T113000
DTEND;TZID=UTC:20250427T130000
DTSTAMP:20260419T163754
CREATED:20250123T082600Z
LAST-MODIFIED:20250324T122831Z
UID:666-1745753400-1745758800@exploraparquevaldebebas.es
SUMMARY:Silencio se juega. Día ruido
DESCRIPTION:🎧 ¿Has oído un ruido? \nSumérgete en una experiencia sensorial y divertida con juegos y manualidades para reflexionar sobre la contaminación acústica. 🌍🔊 \n¡Descubre el sonido de la naturaleza y aprende a protegerlo! 🍃✨ \n  \nActividad Gratuita
URL:https://exploraparquevaldebebas.es/agenda/silencio-se-juega-dia-ruido-2/
LOCATION:Centro de Educacion Ambiental (CEA) del Parque Princesa Leonor\, C. de María de las Mercedes de Borbón\, 186\, Hortaleza\, Madrid\, Madrid\, 28055\, Spain
CATEGORIES:Actividad para mayores de 6 años
ATTACH;FMTTYPE=image/png:https://exploraparquevaldebebas.es/wp-content/uploads/2024/12/centro-interpretacion-Parque-Princesa-Leonor-9.png
END:VEVENT
END:VCALENDAR