BEGIN:VCALENDAR
VERSION:2.0
PRODID:-//Explora Parque Valdebebas - ECPv6.15.20//NONSGML v1.0//EN
CALSCALE:GREGORIAN
METHOD:PUBLISH
X-WR-CALNAME:Explora Parque Valdebebas
X-ORIGINAL-URL:https://exploraparquevaldebebas.es
X-WR-CALDESC:Eventos para Explora Parque Valdebebas
REFRESH-INTERVAL;VALUE=DURATION:PT1H
X-Robots-Tag:noindex
X-PUBLISHED-TTL:PT1H
BEGIN:VTIMEZONE
TZID:UTC
BEGIN:STANDARD
TZOFFSETFROM:+0000
TZOFFSETTO:+0000
TZNAME:UTC
DTSTART:20250101T000000
END:STANDARD
END:VTIMEZONE
BEGIN:VEVENT
DTSTART;TZID=UTC:20260403T110000
DTEND;TZID=UTC:20260403T123000
DTSTAMP:20260419T150936
CREATED:20260402T153810Z
LAST-MODIFIED:20260402T153811Z
UID:1607-1775214000-1775219400@exploraparquevaldebebas.es
SUMMARY:Ruta ornitológica
DESCRIPTION:Actividad Gratuita \n  \nInscripciones \n📩 Puedes reservar tu plaza escribiéndonos a info@exploraparquevaldebebas.es o llamando al +34 618 61 57 03
URL:https://exploraparquevaldebebas.es/agenda/ruta-ornitologica-10/
LOCATION:Centro de Educacion Ambiental (CEA) del Parque Princesa Leonor\, C. de María de las Mercedes de Borbón\, 186\, Hortaleza\, Madrid\, Madrid\, 28055\, Spain
CATEGORIES:Actividad para todos los públicos
ATTACH;FMTTYPE=image/png:https://exploraparquevaldebebas.es/wp-content/uploads/2025/01/centro-interpretacion-Parque-Princesa-Leonor-13.png
END:VEVENT
BEGIN:VEVENT
DTSTART;TZID=UTC:20260403T190000
DTEND;TZID=UTC:20260403T203000
DTSTAMP:20260419T150936
CREATED:20260402T175708Z
LAST-MODIFIED:20260402T175708Z
UID:1611-1775242800-1775248200@exploraparquevaldebebas.es
SUMMARY:Escape room
DESCRIPTION:Actividad Gratuita \n  \nInscripciones \n📩 Puedes reservar tu plaza escribiéndonos a info@exploraparquevaldebebas.es o llamando al +34 618 61 57 03
URL:https://exploraparquevaldebebas.es/agenda/escape-room/
LOCATION:Centro de Educacion Ambiental (CEA) del Parque Princesa Leonor\, C. de María de las Mercedes de Borbón\, 186\, Hortaleza\, Madrid\, Madrid\, 28055\, Spain
CATEGORIES:Actividad para todos los públicos
ATTACH;FMTTYPE=image/png:https://exploraparquevaldebebas.es/wp-content/uploads/2025/09/SENDA-CENTRO-INTERPRETACIONMADRID-RIO-ADULTOS-2.png
END:VEVENT
BEGIN:VEVENT
DTSTART;TZID=UTC:20260404T110000
DTEND;TZID=UTC:20260404T130000
DTSTAMP:20260419T150936
CREATED:20260402T181718Z
LAST-MODIFIED:20260402T181718Z
UID:1613-1775300400-1775307600@exploraparquevaldebebas.es
SUMMARY:Plantas con poder (Botica)
DESCRIPTION:Plantas con poder (Botica) \nActividad Gratuita \n  \nInscripciones \n📩 Puedes reservar tu plaza escribiéndonos a info@exploraparquevaldebebas.es o llamando al +34 618 61 57 03
URL:https://exploraparquevaldebebas.es/agenda/plantas-con-poder-botica-4/
LOCATION:Centro de Educacion Ambiental (CEA) del Parque Princesa Leonor\, C. de María de las Mercedes de Borbón\, 186\, Hortaleza\, Madrid\, Madrid\, 28055\, Spain
CATEGORIES:Actividad para adultos, (mayores de 16 años)
ATTACH;FMTTYPE=image/png:https://exploraparquevaldebebas.es/wp-content/uploads/2025/01/botica.png
END:VEVENT
BEGIN:VEVENT
DTSTART;TZID=UTC:20260404T190000
DTEND;TZID=UTC:20260404T203000
DTSTAMP:20260419T150936
CREATED:20260402T175227Z
LAST-MODIFIED:20260402T175227Z
UID:1609-1775329200-1775334600@exploraparquevaldebebas.es
SUMMARY:Explora Valdebebas
DESCRIPTION:🔍 Descubre los secretos de Valdebebas \nAcompáñanos en una ruta especial para explorar los rincones más mágicos del parque. 🌿✨ \n¡Déjate sorprender por la naturaleza en cada senda! 🚶‍♂️🌳 \nActividad Gratuita \n  \nInscripciones \n📩 Puedes reservar tu plaza escribiéndonos a info@exploraparquevaldebebas.es o llamando al +34 618 61 57 03 \nPor favor\, indícanos: \n✅ El nombre de la actividad y la fecha en la que deseas participar✅ Nombre completo y edad de cada participante✅ Un teléfono de contacto para confirmación
URL:https://exploraparquevaldebebas.es/agenda/explora-valdebebas-12/
LOCATION:Centro de Educacion Ambiental (CEA) del Parque Princesa Leonor\, C. de María de las Mercedes de Borbón\, 186\, Hortaleza\, Madrid\, Madrid\, 28055\, Spain
CATEGORIES:Actividad para mayores de 6 años
ATTACH;FMTTYPE=image/png:https://exploraparquevaldebebas.es/wp-content/uploads/2025/06/Explora-Valdebebas.png
END:VEVENT
BEGIN:VEVENT
DTSTART;TZID=UTC:20260405T110000
DTEND;TZID=UTC:20260405T120000
DTSTAMP:20260419T150936
CREATED:20260402T202415Z
LAST-MODIFIED:20260403T002203Z
UID:1634-1775386800-1775390400@exploraparquevaldebebas.es
SUMMARY:Cuentacuentos
DESCRIPTION:Actividad Gratuita \n  \nInscripciones \n📩 Puedes reservar tu plaza escribiéndonos a info@exploraparquevaldebebas.es o llamando al +34 618 61 57 03
URL:https://exploraparquevaldebebas.es/agenda/cuentacuentos-y-teatro-de-sombras/
LOCATION:Centro de Educacion Ambiental (CEA) del Parque Princesa Leonor\, C. de María de las Mercedes de Borbón\, 186\, Hortaleza\, Madrid\, Madrid\, 28055\, Spain
CATEGORIES:Actividad para mayores de 6 años
ATTACH;FMTTYPE=image/png:https://exploraparquevaldebebas.es/wp-content/uploads/2024/12/centro-interpretacion-Parque-Princesa-Leonor-7.png
END:VEVENT
BEGIN:VEVENT
DTSTART;TZID=UTC:20260405T190000
DTEND;TZID=UTC:20260405T203000
DTSTAMP:20260419T150936
CREATED:20260402T194701Z
LAST-MODIFIED:20260402T194701Z
UID:1615-1775415600-1775421000@exploraparquevaldebebas.es
SUMMARY:Ecotaller
DESCRIPTION:Actividad Gratuita \n  \nInscripciones \n📩 Puedes reservar tu plaza escribiéndonos a info@exploraparquevaldebebas.es o llamando al +34 618 61 57 03
URL:https://exploraparquevaldebebas.es/agenda/ecotaller/
LOCATION:Centro de Educacion Ambiental (CEA) del Parque Princesa Leonor\, C. de María de las Mercedes de Borbón\, 186\, Hortaleza\, Madrid\, Madrid\, 28055\, Spain
CATEGORIES:Actividad para mayores de 3 años
ATTACH;FMTTYPE=image/png:https://exploraparquevaldebebas.es/wp-content/uploads/2024/12/centro-interpretacion-Parque-Princesa-Leonor-8.png
END:VEVENT
BEGIN:VEVENT
DTSTART;TZID=UTC:20260406T103000
DTEND;TZID=UTC:20260406T120000
DTSTAMP:20260419T150936
CREATED:20260402T215830Z
LAST-MODIFIED:20260402T215830Z
UID:1638-1775471400-1775476800@exploraparquevaldebebas.es
SUMMARY:Senda de las ovejas
DESCRIPTION:Se ruega no traer perros a la senda. Gracias \n  \nActividad Gratuita \n  \nInscripciones \n📩 Puedes reservar tu plaza escribiéndonos a info@exploraparquevaldebebas.es o llamando al +34 618 61 57 03
URL:https://exploraparquevaldebebas.es/agenda/senda-de-las-ovejas-5/
LOCATION:Centro de Educacion Ambiental (CEA) del Parque Princesa Leonor\, C. de María de las Mercedes de Borbón\, 186\, Hortaleza\, Madrid\, Madrid\, 28055\, Spain
CATEGORIES:Actividad para mayores de 6 años
ATTACH;FMTTYPE=image/png:https://exploraparquevaldebebas.es/wp-content/uploads/2025/12/senda-de-las-ovejas.png
END:VEVENT
BEGIN:VEVENT
DTSTART;TZID=UTC:20260406T123000
DTEND;TZID=UTC:20260406T140000
DTSTAMP:20260419T150936
CREATED:20260402T234750Z
LAST-MODIFIED:20260402T234750Z
UID:1649-1775478600-1775484000@exploraparquevaldebebas.es
SUMMARY:Senda de las ovejas
DESCRIPTION:Se ruega no traer perros a la senda. Gracias \n  \nActividad Gratuita \n  \nInscripciones \n📩 Puedes reservar tu plaza escribiéndonos a info@exploraparquevaldebebas.es o llamando al +34 618 61 57 03
URL:https://exploraparquevaldebebas.es/agenda/senda-de-las-ovejas-6/
LOCATION:Centro de Educacion Ambiental (CEA) del Parque Princesa Leonor\, C. de María de las Mercedes de Borbón\, 186\, Hortaleza\, Madrid\, Madrid\, 28055\, Spain
CATEGORIES:Actividad para todos los públicos
ATTACH;FMTTYPE=image/png:https://exploraparquevaldebebas.es/wp-content/uploads/2025/12/senda-de-las-ovejas.png
END:VEVENT
BEGIN:VEVENT
DTSTART;TZID=UTC:20260410T190000
DTEND;TZID=UTC:20260410T203000
DTSTAMP:20260419T150936
CREATED:20260402T195343Z
LAST-MODIFIED:20260402T195343Z
UID:1618-1775847600-1775853000@exploraparquevaldebebas.es
SUMMARY:Ecotaller Toca toca
DESCRIPTION:Actividad Gratuita \n  \nInscripciones \n📩 Puedes reservar tu plaza escribiéndonos a info@exploraparquevaldebebas.es o llamando al +34 618 61 57 03
URL:https://exploraparquevaldebebas.es/agenda/ecotaller-toca-toca/
LOCATION:Centro de Educacion Ambiental (CEA) del Parque Princesa Leonor\, C. de María de las Mercedes de Borbón\, 186\, Hortaleza\, Madrid\, Madrid\, 28055\, Spain
CATEGORIES:Actividad para mayores de 3 años
ATTACH;FMTTYPE=image/png:https://exploraparquevaldebebas.es/wp-content/uploads/2025/06/eco-aventuras.png
END:VEVENT
BEGIN:VEVENT
DTSTART;TZID=UTC:20260411T110000
DTEND;TZID=UTC:20260411T123000
DTSTAMP:20260419T150936
CREATED:20260402T233623Z
LAST-MODIFIED:20260403T002708Z
UID:1645-1775905200-1775910600@exploraparquevaldebebas.es
SUMMARY:Aromas del parque
DESCRIPTION:Actividad Gratuita \n  \nInscripciones \n📩 Puedes reservar tu plaza escribiéndonos a info@exploraparquevaldebebas.es o llamando al +34 618 61 57 03
URL:https://exploraparquevaldebebas.es/agenda/aromas-del-parque/
LOCATION:Centro de Educacion Ambiental (CEA) del Parque Princesa Leonor\, C. de María de las Mercedes de Borbón\, 186\, Hortaleza\, Madrid\, Madrid\, 28055\, Spain
CATEGORIES:Actividad para todos los públicos
ATTACH;FMTTYPE=image/png:https://exploraparquevaldebebas.es/wp-content/uploads/2025/06/centro-interpretacion-Parque-Princesa-Leonor-17.png
END:VEVENT
BEGIN:VEVENT
DTSTART;TZID=UTC:20260411T190000
DTEND;TZID=UTC:20260411T203000
DTSTAMP:20260419T150936
CREATED:20260402T233405Z
LAST-MODIFIED:20260402T233405Z
UID:1643-1775934000-1775939400@exploraparquevaldebebas.es
SUMMARY:Ciencia ciudadana
DESCRIPTION:Actividad Gratuita \n  \nInscripciones \n📩 Puedes reservar tu plaza escribiéndonos a info@exploraparquevaldebebas.es o llamando al +34 618 61 57 03
URL:https://exploraparquevaldebebas.es/agenda/ciencia-ciudadana-4/
LOCATION:Centro de Educacion Ambiental (CEA) del Parque Princesa Leonor\, C. de María de las Mercedes de Borbón\, 186\, Hortaleza\, Madrid\, Madrid\, 28055\, Spain
CATEGORIES:Actividad para adultos, (mayores de 16 años)
ATTACH;FMTTYPE=image/png:https://exploraparquevaldebebas.es/wp-content/uploads/2025/12/ciencia.png
END:VEVENT
BEGIN:VEVENT
DTSTART;TZID=UTC:20260412T110000
DTEND;TZID=UTC:20260412T123000
DTSTAMP:20260419T150936
CREATED:20260402T235606Z
LAST-MODIFIED:20260402T235606Z
UID:1651-1775991600-1775997000@exploraparquevaldebebas.es
SUMMARY:Teatro de sombras
DESCRIPTION:Actividad Gratuita \n  \nInscripciones \n📩 Puedes reservar tu plaza escribiéndonos a info@exploraparquevaldebebas.es o llamando al +34 618 61 57 03
URL:https://exploraparquevaldebebas.es/agenda/teatro-de-sombras/
LOCATION:Centro de Educacion Ambiental (CEA) del Parque Princesa Leonor\, C. de María de las Mercedes de Borbón\, 186\, Hortaleza\, Madrid\, Madrid\, 28055\, Spain
CATEGORIES:Actividad para mayores de 3 años
ATTACH;FMTTYPE=image/png:https://exploraparquevaldebebas.es/wp-content/uploads/2024/12/centro-interpretacion-Parque-Princesa-Leonor-7.png
END:VEVENT
BEGIN:VEVENT
DTSTART;TZID=UTC:20260412T190000
DTEND;TZID=UTC:20260412T203000
DTSTAMP:20260419T150936
CREATED:20260402T221015Z
LAST-MODIFIED:20260402T221015Z
UID:1641-1776020400-1776025800@exploraparquevaldebebas.es
SUMMARY:Senda ¿quién vive dónde?
DESCRIPTION:Actividad Gratuita \n  \nInscripciones  \n📩 Puedes reservar tu plaza escribiéndonos a info@exploraparquevaldebebas.es o llamando al +34 618 61 57 03
URL:https://exploraparquevaldebebas.es/agenda/senda-quien-vive-donde-4/
LOCATION:Centro de Educacion Ambiental (CEA) del Parque Princesa Leonor\, C. de María de las Mercedes de Borbón\, 186\, Hortaleza\, Madrid\, Madrid\, 28055\, Spain
CATEGORIES:Actividad para mayores de 3 años
ATTACH;FMTTYPE=image/png:https://exploraparquevaldebebas.es/wp-content/uploads/2025/12/senda-donde-y-quien-esta-ahi.png
END:VEVENT
BEGIN:VEVENT
DTSTART;TZID=UTC:20260417T190000
DTEND;TZID=UTC:20260417T203000
DTSTAMP:20260419T150936
CREATED:20260402T233937Z
LAST-MODIFIED:20260402T233937Z
UID:1647-1776452400-1776457800@exploraparquevaldebebas.es
SUMMARY:Animalia
DESCRIPTION:Actividad Gratuita \n  \nInscripciones \n📩 Puedes reservar tu plaza escribiéndonos a info@exploraparquevaldebebas.es o llamando al +34 618 61 57 03
URL:https://exploraparquevaldebebas.es/agenda/animalia/
LOCATION:Centro de Educacion Ambiental (CEA) del Parque Princesa Leonor\, C. de María de las Mercedes de Borbón\, 186\, Hortaleza\, Madrid\, Madrid\, 28055\, Spain
CATEGORIES:Actividad para todos los públicos
ATTACH;FMTTYPE=image/png:https://exploraparquevaldebebas.es/wp-content/uploads/2025/06/animalia-1.png
END:VEVENT
BEGIN:VEVENT
DTSTART;TZID=UTC:20260418T110000
DTEND;TZID=UTC:20260418T123000
DTSTAMP:20260419T150936
CREATED:20260402T195803Z
LAST-MODIFIED:20260402T195803Z
UID:1620-1776510000-1776515400@exploraparquevaldebebas.es
SUMMARY:Ecotaller
DESCRIPTION:Actividad Gratuita \n  \nInscripciones \n📩 Puedes reservar tu plaza escribiéndonos a info@exploraparquevaldebebas.es o llamando al +34 618 61 57 03
URL:https://exploraparquevaldebebas.es/agenda/ecotaller-2/
LOCATION:Centro de Educacion Ambiental (CEA) del Parque Princesa Leonor\, C. de María de las Mercedes de Borbón\, 186\, Hortaleza\, Madrid\, Madrid\, 28055\, Spain
CATEGORIES:Actividad para mayores de 3 años
ATTACH;FMTTYPE=image/png:https://exploraparquevaldebebas.es/wp-content/uploads/2025/06/eco-aventuras.png
END:VEVENT
BEGIN:VEVENT
DTSTART;TZID=UTC:20260418T190000
DTEND;TZID=UTC:20260418T203000
DTSTAMP:20260419T150936
CREATED:20260402T200514Z
LAST-MODIFIED:20260402T235725Z
UID:1622-1776538800-1776544200@exploraparquevaldebebas.es
SUMMARY:Ecoaventuras Tierra
DESCRIPTION:Actividad Gratuita \n  \nInscripciones \n📩 Puedes reservar tu plaza escribiéndonos a info@exploraparquevaldebebas.es o llamando al +34 618 61 57 03
URL:https://exploraparquevaldebebas.es/agenda/ecoaventuras-49/
LOCATION:Centro de Educacion Ambiental (CEA) del Parque Princesa Leonor\, C. de María de las Mercedes de Borbón\, 186\, Hortaleza\, Madrid\, Madrid\, 28055\, Spain
CATEGORIES:Actividad para mayores de 3 años
ATTACH;FMTTYPE=image/png:https://exploraparquevaldebebas.es/wp-content/uploads/2024/12/centro-interpretacion-Parque-Princesa-Leonor-8.png
END:VEVENT
BEGIN:VEVENT
DTSTART;TZID=UTC:20260419T110000
DTEND;TZID=UTC:20260419T120000
DTSTAMP:20260419T150936
CREATED:20260402T202554Z
LAST-MODIFIED:20260402T235908Z
UID:1636-1776596400-1776600000@exploraparquevaldebebas.es
SUMMARY:Cuentacuentos
DESCRIPTION:Actividad Gratuita \n  \nInscripciones \n📩 Puedes reservar tu plaza escribiéndonos a info@exploraparquevaldebebas.es o llamando al +34 618 61 57 03
URL:https://exploraparquevaldebebas.es/agenda/cuentacuentos-y-teatro-de-sombras-2/
LOCATION:Centro de Educacion Ambiental (CEA) del Parque Princesa Leonor\, C. de María de las Mercedes de Borbón\, 186\, Hortaleza\, Madrid\, Madrid\, 28055\, Spain
CATEGORIES:Actividad para mayores de 6 años
ATTACH;FMTTYPE=image/png:https://exploraparquevaldebebas.es/wp-content/uploads/2024/12/centro-interpretacion-Parque-Princesa-Leonor-7.png
END:VEVENT
BEGIN:VEVENT
DTSTART;TZID=UTC:20260419T190000
DTEND;TZID=UTC:20260419T203000
DTSTAMP:20260419T150936
CREATED:20260403T000250Z
LAST-MODIFIED:20260403T000251Z
UID:1655-1776625200-1776630600@exploraparquevaldebebas.es
SUMMARY:Senda Virgen del Abrazo
DESCRIPTION:Actividad Gratuita \n  \nInscripciones \n📩 Puedes reservar tu plaza escribiéndonos a info@exploraparquevaldebebas.es o llamando al +34 618 61 57 03
URL:https://exploraparquevaldebebas.es/agenda/senda-virgen-del-abrazo-4/
LOCATION:Centro de Educacion Ambiental (CEA) del Parque Princesa Leonor\, C. de María de las Mercedes de Borbón\, 186\, Hortaleza\, Madrid\, Madrid\, 28055\, Spain
CATEGORIES:Actividad para adultos, (mayores de 16 años)
ATTACH;FMTTYPE=image/png:https://exploraparquevaldebebas.es/wp-content/uploads/2025/12/virgen-del-abrazo.png
END:VEVENT
BEGIN:VEVENT
DTSTART;TZID=UTC:20260424T190000
DTEND;TZID=UTC:20260424T203000
DTSTAMP:20260419T150936
CREATED:20260403T000523Z
LAST-MODIFIED:20260403T000523Z
UID:1658-1777057200-1777062600@exploraparquevaldebebas.es
SUMMARY:Ecotaller Piedras
DESCRIPTION:Actividad Gratuita \n  \nInscripciones \n📩 Puedes reservar tu plaza escribiéndonos a info@exploraparquevaldebebas.es o llamando al +34 618 61 57 03
URL:https://exploraparquevaldebebas.es/agenda/ecotaller-piedras/
LOCATION:Centro de Educacion Ambiental (CEA) del Parque Princesa Leonor\, C. de María de las Mercedes de Borbón\, 186\, Hortaleza\, Madrid\, Madrid\, 28055\, Spain
CATEGORIES:Actividad para mayores de 3 años
ATTACH;FMTTYPE=image/png:https://exploraparquevaldebebas.es/wp-content/uploads/2025/06/eco-aventuras.png
END:VEVENT
BEGIN:VEVENT
DTSTART;TZID=UTC:20260425T110000
DTEND;TZID=UTC:20260425T123000
DTSTAMP:20260419T150936
CREATED:20260402T200915Z
LAST-MODIFIED:20260402T200916Z
UID:1626-1777114800-1777120200@exploraparquevaldebebas.es
SUMMARY:Ecoaventuras tierra
DESCRIPTION:Actividad Gratuita \n  \nInscripciones \n📩 Puedes reservar tu plaza escribiéndonos a info@exploraparquevaldebebas.es o llamando al +34 618 61 57 03
URL:https://exploraparquevaldebebas.es/agenda/ecoaventuras-tierra/
LOCATION:Centro de Educacion Ambiental (CEA) del Parque Princesa Leonor\, C. de María de las Mercedes de Borbón\, 186\, Hortaleza\, Madrid\, Madrid\, 28055\, Spain
CATEGORIES:Actividad para mayores de 3 años
ATTACH;FMTTYPE=image/png:https://exploraparquevaldebebas.es/wp-content/uploads/2024/12/centro-interpretacion-Parque-Princesa-Leonor-8.png
END:VEVENT
BEGIN:VEVENT
DTSTART;TZID=UTC:20260425T190000
DTEND;TZID=UTC:20260425T203000
DTSTAMP:20260419T150936
CREATED:20260403T000813Z
LAST-MODIFIED:20260403T000813Z
UID:1660-1777143600-1777149000@exploraparquevaldebebas.es
SUMMARY:Ruta ornitológica
DESCRIPTION:Actividad Gratuita \n  \nInscripciones \n📩 Puedes reservar tu plaza escribiéndonos a info@exploraparquevaldebebas.es o llamando al +34 618 61 57 03
URL:https://exploraparquevaldebebas.es/agenda/ruta-ornitologica-11/
LOCATION:Centro de Educacion Ambiental (CEA) del Parque Princesa Leonor\, C. de María de las Mercedes de Borbón\, 186\, Hortaleza\, Madrid\, Madrid\, 28055\, Spain
CATEGORIES:Actividad para adultos, (mayores de 16 años)
ATTACH;FMTTYPE=image/png:https://exploraparquevaldebebas.es/wp-content/uploads/2025/01/centro-interpretacion-Parque-Princesa-Leonor-13.png
END:VEVENT
BEGIN:VEVENT
DTSTART;TZID=UTC:20260426T110000
DTEND;TZID=UTC:20260426T123000
DTSTAMP:20260419T150936
CREATED:20260402T153117Z
LAST-MODIFIED:20260402T153117Z
UID:1603-1777201200-1777206600@exploraparquevaldebebas.es
SUMMARY:La yincana familiar de Valdebebas
DESCRIPTION:Actividad Gratuita \n  \nInscripciones \n📩 Puedes reservar tu plaza escribiéndonos a info@exploraparquevaldebebas.es o llamando al +34 618 61 57 03
URL:https://exploraparquevaldebebas.es/agenda/la-yincana-familiar-de-valdebebas-9/
LOCATION:Centro de Educacion Ambiental (CEA) del Parque Princesa Leonor\, C. de María de las Mercedes de Borbón\, 186\, Hortaleza\, Madrid\, Madrid\, 28055\, Spain
CATEGORIES:Actividad para mayores de 6 años
ATTACH;FMTTYPE=image/png:https://exploraparquevaldebebas.es/wp-content/uploads/2024/12/centro-interpretacion-Parque-Princesa-Leonor-3.png
END:VEVENT
BEGIN:VEVENT
DTSTART;TZID=UTC:20260426T190000
DTEND;TZID=UTC:20260426T203000
DTSTAMP:20260419T150936
CREATED:20260402T201630Z
LAST-MODIFIED:20260402T201631Z
UID:1632-1777230000-1777235400@exploraparquevaldebebas.es
SUMMARY:Ecoaventuras tierra
DESCRIPTION:Actividad Gratuita \n  \nInscripciones \n📩 Puedes reservar tu plaza escribiéndonos a info@exploraparquevaldebebas.es o llamando al +34 618 61 57 03
URL:https://exploraparquevaldebebas.es/agenda/ecoaventuras-tierra-2/
LOCATION:Centro de Educacion Ambiental (CEA) del Parque Princesa Leonor\, C. de María de las Mercedes de Borbón\, 186\, Hortaleza\, Madrid\, Madrid\, 28055\, Spain
CATEGORIES:Actividad para mayores de 3 años
ATTACH;FMTTYPE=image/png:https://exploraparquevaldebebas.es/wp-content/uploads/2024/12/centro-interpretacion-Parque-Princesa-Leonor-8.png
END:VEVENT
END:VCALENDAR