BEGIN:VCALENDAR
VERSION:2.0
PRODID:-//Explora Parque Valdebebas - ECPv6.15.20//NONSGML v1.0//EN
CALSCALE:GREGORIAN
METHOD:PUBLISH
X-WR-CALNAME:Explora Parque Valdebebas
X-ORIGINAL-URL:https://exploraparquevaldebebas.es
X-WR-CALDESC:Eventos para Explora Parque Valdebebas
REFRESH-INTERVAL;VALUE=DURATION:PT1H
X-Robots-Tag:noindex
X-PUBLISHED-TTL:PT1H
BEGIN:VTIMEZONE
TZID:UTC
BEGIN:STANDARD
TZOFFSETFROM:+0000
TZOFFSETTO:+0000
TZNAME:UTC
DTSTART:20240101T000000
END:STANDARD
END:VTIMEZONE
BEGIN:VEVENT
DTSTART;TZID=UTC:20250531T173000
DTEND;TZID=UTC:20250531T190000
DTSTAMP:20260415T041140
CREATED:20250122T205638Z
LAST-MODIFIED:20250505T120652Z
UID:627-1748712600-1748718000@exploraparquevaldebebas.es
SUMMARY:Ruta del abrazo
DESCRIPTION:🌿 Explora un rincón único de Valdebebas \nAcompáñanos en un paseo especial y descubre los elementos paisajísticos que hacen de este lugar un espacio único. ✨🌳 \n¡Déjate sorprender por la belleza del entorno! 🚶‍♂️🍃 \n\nActividad Gratuita \n  \nInscripciones \n📩 Puedes reservar tu plaza escribiéndonos a info@exploraparquevaldebebas.es o llamando al +34 618 61 57 03 \nPor favor\, indícanos: \n✅ El nombre de la actividad y la fecha en la que deseas participar✅ Nombre completo y edad de cada participante✅ Un teléfono de contacto para confirmación
URL:https://exploraparquevaldebebas.es/agenda/ruta-del-abrazo-4/
LOCATION:Centro de Educacion Ambiental (CEA) del Parque Princesa Leonor\, C. de María de las Mercedes de Borbón\, 186\, Hortaleza\, Madrid\, Madrid\, 28055\, Spain
CATEGORIES:Actividad para todos los públicos
ATTACH;FMTTYPE=image/png:https://exploraparquevaldebebas.es/wp-content/uploads/2025/01/centro-interpretacion-Parque-Princesa-Leonor-10.png
END:VEVENT
END:VCALENDAR