BEGIN:VCALENDAR
VERSION:2.0
PRODID:-//Explora Parque Valdebebas - ECPv6.15.20//NONSGML v1.0//EN
CALSCALE:GREGORIAN
METHOD:PUBLISH
X-ORIGINAL-URL:https://exploraparquevaldebebas.es
X-WR-CALDESC:Eventos para Explora Parque Valdebebas
REFRESH-INTERVAL;VALUE=DURATION:PT1H
X-Robots-Tag:noindex
X-PUBLISHED-TTL:PT1H
BEGIN:VTIMEZONE
TZID:UTC
BEGIN:STANDARD
TZOFFSETFROM:+0000
TZOFFSETTO:+0000
TZNAME:UTC
DTSTART:20240101T000000
END:STANDARD
END:VTIMEZONE
BEGIN:VEVENT
DTSTART;TZID=UTC:20251102T160000
DTEND;TZID=UTC:20251102T173000
DTSTAMP:20260419T195736
CREATED:20250919T110129Z
LAST-MODIFIED:20250919T110532Z
UID:1335-1762099200-1762104600@exploraparquevaldebebas.es
SUMMARY:Cineforum (El Lorax)
DESCRIPTION:Ven a nuestro Cineforum  (El Lorax) \nActividad Gratuita \n  \nInscripciones \n📩 Puedes reservar tu plaza escribiéndonos a info@exploraparquevaldebebas.es o llamando al +34 618 61 57 03
URL:https://exploraparquevaldebebas.es/agenda/cineforum-el-lorax-3/
LOCATION:Centro de Educacion Ambiental (CEA) del Parque Princesa Leonor\, C. de María de las Mercedes de Borbón\, 186\, Hortaleza\, Madrid\, Madrid\, 28055\, Spain
CATEGORIES:Actividad para todos los públicos
ATTACH;FMTTYPE=image/png:https://exploraparquevaldebebas.es/wp-content/uploads/2025/06/cineforum-1.png
END:VEVENT
BEGIN:VEVENT
DTSTART;TZID=UTC:20251108T163000
DTEND;TZID=UTC:20251108T180000
DTSTAMP:20260419T195736
CREATED:20250918T104007Z
LAST-MODIFIED:20250918T104007Z
UID:1245-1762619400-1762624800@exploraparquevaldebebas.es
SUMMARY:¿A qué huele esto? Aromas del parque
DESCRIPTION:¿A qué huele esto? Aromas del parque \nActividad Gratuita \n  \nInscripciones \n📩 Puedes reservar tu plaza escribiéndonos a info@exploraparquevaldebebas.es o llamando al +34 618 61 57 03
URL:https://exploraparquevaldebebas.es/agenda/a-que-huele-esto-aromas-del-parque-6/
LOCATION:Centro de Educacion Ambiental (CEA) del Parque Princesa Leonor\, C. de María de las Mercedes de Borbón\, 186\, Hortaleza\, Madrid\, Madrid\, 28055\, Spain
CATEGORIES:Actividad para todos los públicos
ATTACH;FMTTYPE=image/jpeg:https://exploraparquevaldebebas.es/wp-content/uploads/2025/09/centro-interpretacion-Parque-Princesa-Leonor.jpg
END:VEVENT
BEGIN:VEVENT
DTSTART;TZID=UTC:20251110T113000
DTEND;TZID=UTC:20251110T130000
DTSTAMP:20260419T195736
CREATED:20250918T103051Z
LAST-MODIFIED:20250918T103051Z
UID:1234-1762774200-1762779600@exploraparquevaldebebas.es
SUMMARY:Explora Valdebebas en otoño
DESCRIPTION:🔍 Descubre los secretos de Valdebebas \nAcompáñanos en una ruta especial para explorar los rincones más mágicos del parque. 🌿✨ \n¡Déjate sorprender por la naturaleza en cada senda! 🚶‍♂️🌳 \nActividad Gratuita \n  \nInscripciones \n📩 Puedes reservar tu plaza escribiéndonos a info@exploraparquevaldebebas.es o llamando al +34 618 61 57 03 \nPor favor\, indícanos: \n✅ El nombre de la actividad y la fecha en la que deseas participar✅ Nombre completo y edad de cada participante✅ Un teléfono de contacto para confirmación
URL:https://exploraparquevaldebebas.es/agenda/explora-valdebebas-en-otono-3/
LOCATION:Centro de Educacion Ambiental (CEA) del Parque Princesa Leonor\, C. de María de las Mercedes de Borbón\, 186\, Hortaleza\, Madrid\, Madrid\, 28055\, Spain
CATEGORIES:Actividad para todos los públicos
ATTACH;FMTTYPE=image/png:https://exploraparquevaldebebas.es/wp-content/uploads/2025/06/Explora-Valdebebas.png
END:VEVENT
BEGIN:VEVENT
DTSTART;TZID=UTC:20251114T173000
DTEND;TZID=UTC:20251114T190000
DTSTAMP:20260419T195736
CREATED:20250918T102440Z
LAST-MODIFIED:20250930T103508Z
UID:1226-1763141400-1763146800@exploraparquevaldebebas.es
SUMMARY:Senda Virgen del Abrazo
DESCRIPTION:Actividad Gratuita \n  \nInscripciones \n📩 Puedes reservar tu plaza escribiéndonos a info@exploraparquevaldebebas.es o llamando al +34 618 61 57 03
URL:https://exploraparquevaldebebas.es/agenda/virgen-del-abrazo-2/
LOCATION:Centro de Educacion Ambiental (CEA) del Parque Princesa Leonor\, C. de María de las Mercedes de Borbón\, 186\, Hortaleza\, Madrid\, Madrid\, 28055\, Spain
CATEGORIES:Actividad para todos los públicos
END:VEVENT
BEGIN:VEVENT
DTSTART;TZID=UTC:20251122T163000
DTEND;TZID=UTC:20251122T180000
DTSTAMP:20260419T195736
CREATED:20250918T104124Z
LAST-MODIFIED:20250918T104125Z
UID:1247-1763829000-1763834400@exploraparquevaldebebas.es
SUMMARY:Animalia en Valdebebas
DESCRIPTION:En Valdebebas se esconde un mundo oculto… el mundo de los insectos!!!\nSaldremos a explorar el arroyo de Valdehigueras en busca de pequeños invertebrados! \nActividad Gratuita \n  \nInscripciones \n📩 Puedes reservar tu plaza escribiéndonos a info@exploraparquevaldebebas.es o llamando al +34 618 61 57 03
URL:https://exploraparquevaldebebas.es/agenda/animalia-en-valdebebas-7/
LOCATION:Centro de Educacion Ambiental (CEA) del Parque Princesa Leonor\, C. de María de las Mercedes de Borbón\, 186\, Hortaleza\, Madrid\, Madrid\, 28055\, Spain
CATEGORIES:Actividad para todos los públicos
ATTACH;FMTTYPE=image/png:https://exploraparquevaldebebas.es/wp-content/uploads/2025/06/animalia-1.png
END:VEVENT
BEGIN:VEVENT
DTSTART;TZID=UTC:20251123T160000
DTEND;TZID=UTC:20251123T173000
DTSTAMP:20260419T195736
CREATED:20250919T110347Z
LAST-MODIFIED:20250919T110347Z
UID:1337-1763913600-1763919000@exploraparquevaldebebas.es
SUMMARY:Cineforum (Wall-e)
DESCRIPTION:Ven a nuestro Cineforum (Wall-e) \nActividad Gratuita \n  \nInscripciones \n📩 Puedes reservar tu plaza escribiéndonos a info@exploraparquevaldebebas.es o llamando al +34 618 61 57 03
URL:https://exploraparquevaldebebas.es/agenda/cineforum-wall-e-3/
LOCATION:Centro de Educacion Ambiental (CEA) del Parque Princesa Leonor\, C. de María de las Mercedes de Borbón\, 186\, Hortaleza\, Madrid\, Madrid\, 28055\, Spain
CATEGORIES:Actividad para todos los públicos
ATTACH;FMTTYPE=image/png:https://exploraparquevaldebebas.es/wp-content/uploads/2025/06/cineforum-1.png
END:VEVENT
BEGIN:VEVENT
DTSTART;TZID=UTC:20251129T163000
DTEND;TZID=UTC:20251129T180000
DTSTAMP:20260419T195736
CREATED:20250918T102858Z
LAST-MODIFIED:20250918T102858Z
UID:1232-1764433800-1764439200@exploraparquevaldebebas.es
SUMMARY:Explora Valdebebas en otoño
DESCRIPTION:🔍 Descubre los secretos de Valdebebas \nAcompáñanos en una ruta especial para explorar los rincones más mágicos del parque. 🌿✨ \n¡Déjate sorprender por la naturaleza en cada senda! 🚶‍♂️🌳 \nActividad Gratuita \n  \nInscripciones \n📩 Puedes reservar tu plaza escribiéndonos a info@exploraparquevaldebebas.es o llamando al +34 618 61 57 03 \nPor favor\, indícanos: \n✅ El nombre de la actividad y la fecha en la que deseas participar✅ Nombre completo y edad de cada participante✅ Un teléfono de contacto para confirmación
URL:https://exploraparquevaldebebas.es/agenda/explora-valdebebas-en-otono-2/
LOCATION:Centro de Educacion Ambiental (CEA) del Parque Princesa Leonor\, C. de María de las Mercedes de Borbón\, 186\, Hortaleza\, Madrid\, Madrid\, 28055\, Spain
CATEGORIES:Actividad para todos los públicos
ATTACH;FMTTYPE=image/png:https://exploraparquevaldebebas.es/wp-content/uploads/2025/06/Explora-Valdebebas.png
END:VEVENT
END:VCALENDAR