BEGIN:VCALENDAR
VERSION:2.0
PRODID:-//Explora Parque Valdebebas - ECPv6.15.20//NONSGML v1.0//EN
CALSCALE:GREGORIAN
METHOD:PUBLISH
X-ORIGINAL-URL:https://exploraparquevaldebebas.es
X-WR-CALDESC:Eventos para Explora Parque Valdebebas
REFRESH-INTERVAL;VALUE=DURATION:PT1H
X-Robots-Tag:noindex
X-PUBLISHED-TTL:PT1H
BEGIN:VTIMEZONE
TZID:UTC
BEGIN:STANDARD
TZOFFSETFROM:+0000
TZOFFSETTO:+0000
TZNAME:UTC
DTSTART:20240101T000000
END:STANDARD
END:VTIMEZONE
BEGIN:VEVENT
DTSTART;TZID=UTC:20250906T173000
DTEND;TZID=UTC:20250906T190000
DTSTAMP:20260419T230607
CREATED:20250610T165621Z
LAST-MODIFIED:20250626T181830Z
UID:1083-1757179800-1757185200@exploraparquevaldebebas.es
SUMMARY:Cineforum (Wall-e)
DESCRIPTION:Ven a nuestro Cineforum (Wall-e) \nActividad Gratuita \n  \nInscripciones \n📩 Puedes reservar tu plaza escribiéndonos a info@exploraparquevaldebebas.es o llamando al +34 618 61 57 03
URL:https://exploraparquevaldebebas.es/agenda/cineforum-wall-e-2/
LOCATION:Centro de Educacion Ambiental (CEA) del Parque Princesa Leonor\, C. de María de las Mercedes de Borbón\, 186\, Hortaleza\, Madrid\, Madrid\, 28055\, Spain
CATEGORIES:Actividad para todos los públicos
ATTACH;FMTTYPE=image/png:https://exploraparquevaldebebas.es/wp-content/uploads/2025/06/cineforum-1.png
END:VEVENT
BEGIN:VEVENT
DTSTART;TZID=UTC:20250907T103000
DTEND;TZID=UTC:20250907T120000
DTSTAMP:20260419T230607
CREATED:20250610T171910Z
LAST-MODIFIED:20250610T171910Z
UID:1101-1757241000-1757246400@exploraparquevaldebebas.es
SUMMARY:Animalia en Valdebebas
DESCRIPTION:Animalia en Valdebebas \nActividad Gratuita \n  \nInscripciones \n📩 Puedes reservar tu plaza escribiéndonos a info@exploraparquevaldebebas.es o llamando al +34 618 61 57 03
URL:https://exploraparquevaldebebas.es/agenda/animalia-en-valdebebas-2/
LOCATION:Centro de Educacion Ambiental (CEA) del Parque Princesa Leonor\, C. de María de las Mercedes de Borbón\, 186\, Hortaleza\, Madrid\, Madrid\, 28055\, Spain
CATEGORIES:Actividad para todos los públicos
ATTACH;FMTTYPE=image/png:https://exploraparquevaldebebas.es/wp-content/uploads/2025/06/Animalia.png
END:VEVENT
BEGIN:VEVENT
DTSTART;TZID=UTC:20250912T173000
DTEND;TZID=UTC:20250912T190000
DTSTAMP:20260419T230607
CREATED:20250610T170235Z
LAST-MODIFIED:20250626T182109Z
UID:1088-1757698200-1757703600@exploraparquevaldebebas.es
SUMMARY:Cineforum (Volando juntos)
DESCRIPTION:Ven a nuestro Cineforum (Volando juntos) \nActividad Gratuita \n  \nInscripciones \n📩 Puedes reservar tu plaza escribiéndonos a info@exploraparquevaldebebas.es o llamando al +34 618 61 57 03
URL:https://exploraparquevaldebebas.es/agenda/cineforum-volando-juntos-2/
LOCATION:Centro de Educacion Ambiental (CEA) del Parque Princesa Leonor\, C. de María de las Mercedes de Borbón\, 186\, Hortaleza\, Madrid\, Madrid\, 28055\, Spain
CATEGORIES:Actividad para todos los públicos
ATTACH;FMTTYPE=image/png:https://exploraparquevaldebebas.es/wp-content/uploads/2025/06/cineforum-1.png
END:VEVENT
BEGIN:VEVENT
DTSTART;TZID=UTC:20250919T173000
DTEND;TZID=UTC:20250919T190000
DTSTAMP:20260419T230607
CREATED:20250610T173551Z
LAST-MODIFIED:20250626T185155Z
UID:1107-1758303000-1758308400@exploraparquevaldebebas.es
SUMMARY:Animalia en Valdebebas
DESCRIPTION:En Valdebebas se esconde un mundo oculto… el mundo de los insectos!!!\nSaldremos a explorar el arroyo de Valdehigueras en busca de pequeños invertebrados! \nActividad Gratuita \n  \nInscripciones \n📩 Puedes reservar tu plaza escribiéndonos a info@exploraparquevaldebebas.es o llamando al +34 618 61 57 03
URL:https://exploraparquevaldebebas.es/agenda/animalia-en-valdebebas-5/
LOCATION:Centro de Educacion Ambiental (CEA) del Parque Princesa Leonor\, C. de María de las Mercedes de Borbón\, 186\, Hortaleza\, Madrid\, Madrid\, 28055\, Spain
CATEGORIES:Actividad para todos los públicos
ATTACH;FMTTYPE=image/png:https://exploraparquevaldebebas.es/wp-content/uploads/2025/06/animalia-1.png
END:VEVENT
BEGIN:VEVENT
DTSTART;TZID=UTC:20250921T173000
DTEND;TZID=UTC:20250921T190000
DTSTAMP:20260419T230607
CREATED:20250610T170611Z
LAST-MODIFIED:20250626T182314Z
UID:1092-1758475800-1758481200@exploraparquevaldebebas.es
SUMMARY:Cineforum (El Lorax)
DESCRIPTION:Ven a nuestro Cineforum  (El Lorax) \nActividad Gratuita \n  \nInscripciones \n📩 Puedes reservar tu plaza escribiéndonos a info@exploraparquevaldebebas.es o llamando al +34 618 61 57 03
URL:https://exploraparquevaldebebas.es/agenda/cineforum-el-lorax-2/
LOCATION:Centro de Educacion Ambiental (CEA) del Parque Princesa Leonor\, C. de María de las Mercedes de Borbón\, 186\, Hortaleza\, Madrid\, Madrid\, 28055\, Spain
CATEGORIES:Actividad para todos los públicos
ATTACH;FMTTYPE=image/png:https://exploraparquevaldebebas.es/wp-content/uploads/2025/06/cineforum-1.png
END:VEVENT
BEGIN:VEVENT
DTSTART;TZID=UTC:20250927T173000
DTEND;TZID=UTC:20250927T190000
DTSTAMP:20260419T230607
CREATED:20250610T173712Z
LAST-MODIFIED:20250626T185255Z
UID:1109-1758994200-1758999600@exploraparquevaldebebas.es
SUMMARY:Animalia en Valdebebas
DESCRIPTION:En Valdebebas se esconde un mundo oculto… el mundo de los insectos!!!\nSaldremos a explorar el arroyo de Valdehigueras en busca de pequeños invertebrados! \nActividad Gratuita \n  \nInscripciones \n📩 Puedes reservar tu plaza escribiéndonos a info@exploraparquevaldebebas.es o llamando al +34 618 61 57 03
URL:https://exploraparquevaldebebas.es/agenda/animalia-en-valdebebas-6/
LOCATION:Centro de Educacion Ambiental (CEA) del Parque Princesa Leonor\, C. de María de las Mercedes de Borbón\, 186\, Hortaleza\, Madrid\, Madrid\, 28055\, Spain
CATEGORIES:Actividad para todos los públicos
ATTACH;FMTTYPE=image/png:https://exploraparquevaldebebas.es/wp-content/uploads/2025/06/animalia-1.png
END:VEVENT
BEGIN:VEVENT
DTSTART;TZID=UTC:20250928T173000
DTEND;TZID=UTC:20250928T190000
DTSTAMP:20260419T230607
CREATED:20250610T171319Z
LAST-MODIFIED:20250626T183107Z
UID:1096-1759080600-1759086000@exploraparquevaldebebas.es
SUMMARY:Cineforum (Antz)
DESCRIPTION:Ven a nuestro Cineforum  (Antz) \nActividad Gratuita \n  \nInscripciones \n📩 Puedes reservar tu plaza escribiéndonos a info@exploraparquevaldebebas.es o llamando al +34 618 61 57 03
URL:https://exploraparquevaldebebas.es/agenda/cineforum-antz-2/
LOCATION:Centro de Educacion Ambiental (CEA) del Parque Princesa Leonor\, C. de María de las Mercedes de Borbón\, 186\, Hortaleza\, Madrid\, Madrid\, 28055\, Spain
CATEGORIES:Actividad para todos los públicos
ATTACH;FMTTYPE=image/png:https://exploraparquevaldebebas.es/wp-content/uploads/2025/06/cineforum-1.png
END:VEVENT
END:VCALENDAR