BEGIN:VCALENDAR
VERSION:2.0
PRODID:-//Explora Parque Valdebebas - ECPv6.15.20//NONSGML v1.0//EN
CALSCALE:GREGORIAN
METHOD:PUBLISH
X-ORIGINAL-URL:https://exploraparquevaldebebas.es
X-WR-CALDESC:Eventos para Explora Parque Valdebebas
REFRESH-INTERVAL;VALUE=DURATION:PT1H
X-Robots-Tag:noindex
X-PUBLISHED-TTL:PT1H
BEGIN:VTIMEZONE
TZID:UTC
BEGIN:STANDARD
TZOFFSETFROM:+0000
TZOFFSETTO:+0000
TZNAME:UTC
DTSTART:20240101T000000
END:STANDARD
END:VTIMEZONE
BEGIN:VEVENT
DTSTART;TZID=UTC:20250501T173000
DTEND;TZID=UTC:20250501T190000
DTSTAMP:20260420T052048
CREATED:20250122T204233Z
LAST-MODIFIED:20250407T160042Z
UID:610-1746120600-1746126000@exploraparquevaldebebas.es
SUMMARY:Explora Valdebebas
DESCRIPTION:🔍 Descubre los secretos de Valdebebas \nAcompáñanos en una ruta especial para explorar los rincones más mágicos del parque. 🌿✨ \n¡Déjate sorprender por la naturaleza en cada senda! 🚶‍♂️🌳
URL:https://exploraparquevaldebebas.es/agenda/explora-valdebebas-3/
LOCATION:Centro de Educacion Ambiental (CEA) del Parque Princesa Leonor\, C. de María de las Mercedes de Borbón\, 186\, Hortaleza\, Madrid\, Madrid\, 28055\, Spain
CATEGORIES:Actividad para todos los públicos
ATTACH;FMTTYPE=image/png:https://exploraparquevaldebebas.es/wp-content/uploads/2024/12/centro-interpretacion-Parque-Princesa-Leonor-5.png
END:VEVENT
BEGIN:VEVENT
DTSTART;TZID=UTC:20250502T173000
DTEND;TZID=UTC:20250502T190000
DTSTAMP:20260420T052048
CREATED:20250122T205519Z
LAST-MODIFIED:20250409T084956Z
UID:625-1746207000-1746212400@exploraparquevaldebebas.es
SUMMARY:Ruta del abrazo
DESCRIPTION:
URL:https://exploraparquevaldebebas.es/agenda/ruta-del-abrazo-3/
LOCATION:Centro de Educacion Ambiental (CEA) del Parque Princesa Leonor\, C. de María de las Mercedes de Borbón\, 186\, Hortaleza\, Madrid\, Madrid\, 28055\, Spain
CATEGORIES:Actividad para todos los públicos
ATTACH;FMTTYPE=image/png:https://exploraparquevaldebebas.es/wp-content/uploads/2025/01/centro-interpretacion-Parque-Princesa-Leonor-10.png
END:VEVENT
BEGIN:VEVENT
DTSTART;TZID=UTC:20250516T173000
DTEND;TZID=UTC:20250516T193000
DTSTAMP:20260420T052048
CREATED:20250122T205421Z
LAST-MODIFIED:20250505T115218Z
UID:623-1747416600-1747423800@exploraparquevaldebebas.es
SUMMARY:Ruta del abrazo
DESCRIPTION:🌿 Explora un rincón único de Valdebebas \nAcompáñanos en un paseo especial y descubre los elementos paisajísticos que hacen de este lugar un espacio único. ✨🌳 \n¡Déjate sorprender por la belleza del entorno! 🚶‍♂️🍃 \nActividad Gratuita \n  \nInscripciones \n📩 Puedes reservar tu plaza escribiéndonos a info@exploraparquevaldebebas.es o llamando al +34 618 61 57 03 \nPor favor\, indícanos: \n✅ El nombre de la actividad y la fecha en la que deseas participar✅ Nombre completo y edad de cada participante✅ Un teléfono de contacto para confirmación
URL:https://exploraparquevaldebebas.es/agenda/ruta-del-abrazo-2/
LOCATION:Centro de Educacion Ambiental (CEA) del Parque Princesa Leonor\, C. de María de las Mercedes de Borbón\, 186\, Hortaleza\, Madrid\, Madrid\, 28055\, Spain
CATEGORIES:Actividad para todos los públicos
ATTACH;FMTTYPE=image/png:https://exploraparquevaldebebas.es/wp-content/uploads/2025/01/centro-interpretacion-Parque-Princesa-Leonor-10.png
END:VEVENT
BEGIN:VEVENT
DTSTART;TZID=UTC:20250517T113000
DTEND;TZID=UTC:20250517T130000
DTSTAMP:20260420T052048
CREATED:20250122T204457Z
LAST-MODIFIED:20250505T115308Z
UID:614-1747481400-1747486800@exploraparquevaldebebas.es
SUMMARY:Explora Valdebebas
DESCRIPTION:🔍 Descubre los secretos de Valdebebas \nAcompáñanos en una ruta especial para explorar los rincones más mágicos del parque. 🌿✨ \n¡Déjate sorprender por la naturaleza en cada senda! 🚶‍♂️🌳 \nActividad Gratuita \n  \nInscripciones \n📩 Puedes reservar tu plaza escribiéndonos a info@exploraparquevaldebebas.es o llamando al +34 618 61 57 03 \nPor favor\, indícanos: \n✅ El nombre de la actividad y la fecha en la que deseas participar✅ Nombre completo y edad de cada participante✅ Un teléfono de contacto para confirmación
URL:https://exploraparquevaldebebas.es/agenda/explora-valdebebas-5/
LOCATION:Centro de Educacion Ambiental (CEA) del Parque Princesa Leonor\, C. de María de las Mercedes de Borbón\, 186\, Hortaleza\, Madrid\, Madrid\, 28055\, Spain
CATEGORIES:Actividad para todos los públicos
ATTACH;FMTTYPE=image/png:https://exploraparquevaldebebas.es/wp-content/uploads/2024/12/centro-interpretacion-Parque-Princesa-Leonor-5.png
END:VEVENT
BEGIN:VEVENT
DTSTART;TZID=UTC:20250531T173000
DTEND;TZID=UTC:20250531T190000
DTSTAMP:20260420T052048
CREATED:20250122T205638Z
LAST-MODIFIED:20250505T120652Z
UID:627-1748712600-1748718000@exploraparquevaldebebas.es
SUMMARY:Ruta del abrazo
DESCRIPTION:🌿 Explora un rincón único de Valdebebas \nAcompáñanos en un paseo especial y descubre los elementos paisajísticos que hacen de este lugar un espacio único. ✨🌳 \n¡Déjate sorprender por la belleza del entorno! 🚶‍♂️🍃 \n\nActividad Gratuita \n  \nInscripciones \n📩 Puedes reservar tu plaza escribiéndonos a info@exploraparquevaldebebas.es o llamando al +34 618 61 57 03 \nPor favor\, indícanos: \n✅ El nombre de la actividad y la fecha en la que deseas participar✅ Nombre completo y edad de cada participante✅ Un teléfono de contacto para confirmación
URL:https://exploraparquevaldebebas.es/agenda/ruta-del-abrazo-4/
LOCATION:Centro de Educacion Ambiental (CEA) del Parque Princesa Leonor\, C. de María de las Mercedes de Borbón\, 186\, Hortaleza\, Madrid\, Madrid\, 28055\, Spain
CATEGORIES:Actividad para todos los públicos
ATTACH;FMTTYPE=image/png:https://exploraparquevaldebebas.es/wp-content/uploads/2025/01/centro-interpretacion-Parque-Princesa-Leonor-10.png
END:VEVENT
END:VCALENDAR