BEGIN:VCALENDAR
VERSION:2.0
PRODID:-//Explora Parque Valdebebas - ECPv6.15.20//NONSGML v1.0//EN
CALSCALE:GREGORIAN
METHOD:PUBLISH
X-ORIGINAL-URL:https://exploraparquevaldebebas.es
X-WR-CALDESC:Eventos para Explora Parque Valdebebas
REFRESH-INTERVAL;VALUE=DURATION:PT1H
X-Robots-Tag:noindex
X-PUBLISHED-TTL:PT1H
BEGIN:VTIMEZONE
TZID:Europe/Madrid
BEGIN:DAYLIGHT
TZOFFSETFROM:+0100
TZOFFSETTO:+0200
TZNAME:CEST
DTSTART:20250330T010000
END:DAYLIGHT
BEGIN:STANDARD
TZOFFSETFROM:+0200
TZOFFSETTO:+0100
TZNAME:CET
DTSTART:20251026T010000
END:STANDARD
BEGIN:DAYLIGHT
TZOFFSETFROM:+0100
TZOFFSETTO:+0200
TZNAME:CEST
DTSTART:20260329T010000
END:DAYLIGHT
BEGIN:STANDARD
TZOFFSETFROM:+0200
TZOFFSETTO:+0100
TZNAME:CET
DTSTART:20261025T010000
END:STANDARD
BEGIN:DAYLIGHT
TZOFFSETFROM:+0100
TZOFFSETTO:+0200
TZNAME:CEST
DTSTART:20270328T010000
END:DAYLIGHT
BEGIN:STANDARD
TZOFFSETFROM:+0200
TZOFFSETTO:+0100
TZNAME:CET
DTSTART:20271031T010000
END:STANDARD
END:VTIMEZONE
BEGIN:VEVENT
DTSTART;TZID=Europe/Madrid:20260208T113000
DTEND;TZID=Europe/Madrid:20260208T123000
DTSTAMP:20260420T005312
CREATED:20260205T181931Z
LAST-MODIFIED:20260205T184717Z
UID:1580-1770550200-1770553800@exploraparquevaldebebas.es
SUMMARY:Cuentacuentos
DESCRIPTION:Actividad Gratuita \n  \nInscripciones \n📩 Puedes reservar tu plaza escribiéndonos a info@exploraparquevaldebebas.es o llamando al +34 618 61 57 03
URL:https://exploraparquevaldebebas.es/agenda/cuentacuentos-6/
LOCATION:Centro de Educacion Ambiental (CEA) del Parque Princesa Leonor\, C. de María de las Mercedes de Borbón\, 186\, Hortaleza\, Madrid\, Madrid\, 28055\, Spain
CATEGORIES:Actividad para niños de 5 a 12 años
ATTACH;FMTTYPE=image/png:https://exploraparquevaldebebas.es/wp-content/uploads/2024/12/centro-interpretacion-Parque-Princesa-Leonor-7.png
END:VEVENT
END:VCALENDAR