BEGIN:VCALENDAR
VERSION:2.0
PRODID:-//Explora Parque Valdebebas - ECPv6.15.20//NONSGML v1.0//EN
CALSCALE:GREGORIAN
METHOD:PUBLISH
X-ORIGINAL-URL:https://exploraparquevaldebebas.es
X-WR-CALDESC:Eventos para Explora Parque Valdebebas
REFRESH-INTERVAL;VALUE=DURATION:PT1H
X-Robots-Tag:noindex
X-PUBLISHED-TTL:PT1H
BEGIN:VTIMEZONE
TZID:UTC
BEGIN:STANDARD
TZOFFSETFROM:+0000
TZOFFSETTO:+0000
TZNAME:UTC
DTSTART:20240101T000000
END:STANDARD
END:VTIMEZONE
BEGIN:VEVENT
DTSTART;TZID=UTC:20250705T103000
DTEND;TZID=UTC:20250705T120000
DTSTAMP:20260420T080615
CREATED:20250610T152017Z
LAST-MODIFIED:20250610T153303Z
UID:1021-1751711400-1751716800@exploraparquevaldebebas.es
SUMMARY:Rutas y retos: la gincana familiar de Valdebebas. Versión veraniega
DESCRIPTION:🔍 Explora y compite en Valdebebas. Versión veraniega \nForma tu equipo y disfruta de un juego de orientación lleno de retos y diversión. Descubre el parque mientras superas pruebas y trabajas en equipo. \n¡Vive una aventura única en la naturaleza! 🌿🏆 \nActividad Gratuita \n  \nInscripciones \n📩 Puedes reservar tu plaza escribiéndonos a info@exploraparquevaldebebas.es o llamando al +34 618 61 57 03 \nPor favor\, indícanos: \n✅ El nombre de la actividad y la fecha en la que deseas participar✅ Nombre completo y edad de cada peque✅ Un teléfono de contacto para confirmación
URL:https://exploraparquevaldebebas.es/agenda/rutas-y-retos-la-gincana-familiar-de-valdebebas-version-veraniega/
LOCATION:Centro de Educacion Ambiental (CEA) del Parque Princesa Leonor\, C. de María de las Mercedes de Borbón\, 186\, Hortaleza\, Madrid\, Madrid\, 28055\, Spain
CATEGORIES:Actividad para mayores de 6 años
ATTACH;FMTTYPE=image/png:https://exploraparquevaldebebas.es/wp-content/uploads/2025/06/Rutas-y-Retos.png
END:VEVENT
END:VCALENDAR