BEGIN:VCALENDAR
VERSION:2.0
PRODID:-//Explora Parque Valdebebas - ECPv6.15.20//NONSGML v1.0//EN
CALSCALE:GREGORIAN
METHOD:PUBLISH
X-ORIGINAL-URL:https://exploraparquevaldebebas.es
X-WR-CALDESC:Eventos para Explora Parque Valdebebas
REFRESH-INTERVAL;VALUE=DURATION:PT1H
X-Robots-Tag:noindex
X-PUBLISHED-TTL:PT1H
BEGIN:VTIMEZONE
TZID:UTC
BEGIN:STANDARD
TZOFFSETFROM:+0000
TZOFFSETTO:+0000
TZNAME:UTC
DTSTART:20240101T000000
END:STANDARD
END:VTIMEZONE
BEGIN:VEVENT
DTSTART;TZID=UTC:20250502T113000
DTEND;TZID=UTC:20250502T130000
DTSTAMP:20260422T090603
CREATED:20250122T201426Z
LAST-MODIFIED:20250129T185850Z
UID:578-1746185400-1746190800@exploraparquevaldebebas.es
SUMMARY:Rutas y retos: la Gincana familiar de Valdebebas
DESCRIPTION:🔍 Explora y compite en Valdebebas \nForma tu equipo y disfruta de un juego de orientación lleno de retos y diversión. Descubre el parque mientras superas pruebas y trabajas en equipo. \n¡Vive una aventura única en la naturaleza! 🌿🏆
URL:https://exploraparquevaldebebas.es/agenda/rutas-y-retos-la-gincana-familiar-de-valdebebas-4/
LOCATION:Centro de Educacion Ambiental (CEA) del Parque Princesa Leonor\, C. de María de las Mercedes de Borbón\, 186\, Hortaleza\, Madrid\, Madrid\, 28055\, Spain
CATEGORIES:Actividad para mayores de 6 años
ATTACH;FMTTYPE=image/png:https://exploraparquevaldebebas.es/wp-content/uploads/2024/12/centro-interpretacion-Parque-Princesa-Leonor-3.png
END:VEVENT
BEGIN:VEVENT
DTSTART;TZID=UTC:20250503T173000
DTEND;TZID=UTC:20250503T190000
DTSTAMP:20260422T090603
CREATED:20250122T203632Z
LAST-MODIFIED:20250130T174119Z
UID:604-1746293400-1746298800@exploraparquevaldebebas.es
SUMMARY:Ecoaventuras en Valdebebas (aventuras en el cielo)
DESCRIPTION:🦜 Las aves viajeras de Valdebebas \n¿Sabías que muchas aves recorren miles de kilómetros cada año? 🌍✨ \nDescubre el fascinante mundo de las migraciones estacionales y aprende sobre sus increíbles travesías. 🚀🐦
URL:https://exploraparquevaldebebas.es/agenda/ecoaventuras-aventuras-en-el-cielo-2/
LOCATION:Centro de Educacion Ambiental (CEA) del Parque Princesa Leonor\, C. de María de las Mercedes de Borbón\, 186\, Hortaleza\, Madrid\, Madrid\, 28055\, Spain
CATEGORIES:Actividad para mayores de 6 años
ATTACH;FMTTYPE=image/png:https://exploraparquevaldebebas.es/wp-content/uploads/2024/12/centro-interpretacion-Parque-Princesa-Leonor-8.png
END:VEVENT
BEGIN:VEVENT
DTSTART;TZID=UTC:20250509T173000
DTEND;TZID=UTC:20250509T193000
DTSTAMP:20260422T090603
CREATED:20250130T174751Z
LAST-MODIFIED:20250505T113527Z
UID:808-1746811800-1746819000@exploraparquevaldebebas.es
SUMMARY:Ecoaventura en Valdebebas (pluma\, pico\, pata)
DESCRIPTION:🔍 ¿Qué nos dice el aspecto de un ave? \nDescubre cómo la forma y el color de las aves revelan sus hábitos y su entorno. 🦜✨ \n¡Participa en nuestro taller de morfología ornitológica y conviértete en un experto observador! 🌿🔎 \nActividad Gratuita \n  \nInscripciones \n📩 Puedes reservar tu plaza escribiéndonos a info@exploraparquevaldebebas.es o llamando al +34 618 61 57 03 \nPor favor\, indícanos: \n✅ El nombre de la actividad y la fecha en la que deseas participar✅ Nombre completo y edad de cada participante✅ Un teléfono de contacto para confirmación
URL:https://exploraparquevaldebebas.es/agenda/ecoaventura-en-valdebebas-pluma-pico-pata/
LOCATION:Centro de Educacion Ambiental (CEA) del Parque Princesa Leonor\, C. de María de las Mercedes de Borbón\, 186\, Hortaleza\, Madrid\, Madrid\, 28055\, Spain
CATEGORIES:Actividad para mayores de 6 años
ATTACH;FMTTYPE=image/png:https://exploraparquevaldebebas.es/wp-content/uploads/2024/12/centro-interpretacion-Parque-Princesa-Leonor-8.png
END:VEVENT
BEGIN:VEVENT
DTSTART;TZID=UTC:20250510T113000
DTEND;TZID=UTC:20250510T130000
DTSTAMP:20260422T090603
CREATED:20250122T202419Z
LAST-MODIFIED:20250505T114546Z
UID:590-1746876600-1746882000@exploraparquevaldebebas.es
SUMMARY:Ecoaventuras en Valdebebas (pluma\, pico\, pata)
DESCRIPTION:🔍 ¿Qué nos dice el aspecto de un ave? \nDescubre cómo la forma y el color de las aves revelan sus hábitos y su entorno. 🦜✨ \n¡Participa en nuestro taller de morfología ornitológica y conviértete en un experto observador! 🌿🔎 \nActividad Gratuita \nInscripciones \n📩 Puedes reservar tu plaza escribiéndonos a info@exploraparquevaldebebas.es o llamando al +34 618 61 57 03 \nPor favor\, indícanos: \n✅ El nombre de la actividad y la fecha en la que deseas participar✅ Nombre completo y edad de cada participante✅ Un teléfono de contacto para confirmación
URL:https://exploraparquevaldebebas.es/agenda/ecoaventuras-pluma-pico-pata/
LOCATION:Centro de Educacion Ambiental (CEA) del Parque Princesa Leonor\, C. de María de las Mercedes de Borbón\, 186\, Hortaleza\, Madrid\, Madrid\, 28055\, Spain
CATEGORIES:Actividad para mayores de 6 años
ATTACH;FMTTYPE=image/png:https://exploraparquevaldebebas.es/wp-content/uploads/2024/12/centro-interpretacion-Parque-Princesa-Leonor-8.png
END:VEVENT
BEGIN:VEVENT
DTSTART;TZID=UTC:20250511T113000
DTEND;TZID=UTC:20250511T130000
DTSTAMP:20260422T090603
CREATED:20250122T202604Z
LAST-MODIFIED:20250505T114753Z
UID:592-1746963000-1746968400@exploraparquevaldebebas.es
SUMMARY:Ecoaventuras en Valdebebas (aventuras en el cielo)
DESCRIPTION:🦜 Las aves viajeras de Valdebebas \n¿Sabías que muchas aves recorren miles de kilómetros cada año? 🌍✨ \nDescubre el fascinante mundo de las migraciones estacionales y aprende sobre sus increíbles travesías. 🚀🐦 \nActividad Gratuita \n  \nInscripciones \n📩 Puedes reservar tu plaza escribiéndonos a info@exploraparquevaldebebas.es o llamando al +34 618 61 57 03 \nPor favor\, indícanos: \n✅ El nombre de la actividad y la fecha en la que deseas participar✅ Nombre completo y edad de cada participante✅ Un teléfono de contacto para confirmación
URL:https://exploraparquevaldebebas.es/agenda/ecoaventuras-aventuras-en-el-cielo/
LOCATION:Centro de Educacion Ambiental (CEA) del Parque Princesa Leonor\, C. de María de las Mercedes de Borbón\, 186\, Hortaleza\, Madrid\, Madrid\, 28055\, Spain
CATEGORIES:Actividad para mayores de 6 años
ATTACH;FMTTYPE=image/png:https://exploraparquevaldebebas.es/wp-content/uploads/2024/12/centro-interpretacion-Parque-Princesa-Leonor-8.png
END:VEVENT
BEGIN:VEVENT
DTSTART;TZID=UTC:20250515T113000
DTEND;TZID=UTC:20250515T130000
DTSTAMP:20260422T090603
CREATED:20250122T202727Z
LAST-MODIFIED:20250505T114845Z
UID:594-1747308600-1747314000@exploraparquevaldebebas.es
SUMMARY:Ecoaventuras en Valdebebas (Siembra el futuro. San Isidro)
DESCRIPTION:🌾 San Isidro\, patrón de los agricultores \nCelebra esta fecha especial y descubre el entorno agrícola del Parque Princesa Leonor. 🌿🚜 \n¡Acompáñanos en un recorrido único por la tradición y la naturaleza! 🌱✨ \nActividad Gratuita \n  \nInscripciones \n📩 Puedes reservar tu plaza escribiéndonos a info@exploraparquevaldebebas.es o llamando al +34 618 61 57 03 \nPor favor\, indícanos: \n✅ El nombre de la actividad y la fecha en la que deseas participar✅ Nombre completo y edad de cada participante✅ Un teléfono de contacto para confirmación
URL:https://exploraparquevaldebebas.es/agenda/ecoaventuras-siembra-el-futuro-san-isidro/
LOCATION:Centro de Educacion Ambiental (CEA) del Parque Princesa Leonor\, C. de María de las Mercedes de Borbón\, 186\, Hortaleza\, Madrid\, Madrid\, 28055\, Spain
CATEGORIES:Actividad para mayores de 6 años
ATTACH;FMTTYPE=image/png:https://exploraparquevaldebebas.es/wp-content/uploads/2024/12/centro-interpretacion-Parque-Princesa-Leonor-8.png
END:VEVENT
BEGIN:VEVENT
DTSTART;TZID=UTC:20250515T173000
DTEND;TZID=UTC:20250515T190000
DTSTAMP:20260422T090603
CREATED:20250122T201908Z
LAST-MODIFIED:20250505T114955Z
UID:584-1747330200-1747335600@exploraparquevaldebebas.es
SUMMARY:Rutas y retos: la Gincana familiar de Valdebebas
DESCRIPTION:🔍 Explora y compite en Valdebebas \nForma tu equipo y disfruta de un juego de orientación lleno de retos y diversión. Descubre el parque mientras superas pruebas y trabajas en equipo. \n¡Vive una aventura única en la naturaleza! 🌿🏆 \nActividad Gratuita \n  \nInscripciones \n📩 Puedes reservar tu plaza escribiéndonos a info@exploraparquevaldebebas.es o llamando al +34 618 61 57 03 \nPor favor\, indícanos: \n✅ El nombre de la actividad y la fecha en la que deseas participar✅ Nombre completo y edad de cada participante✅ Un teléfono de contacto para confirmación
URL:https://exploraparquevaldebebas.es/agenda/rutas-y-retos-la-gincana-familiar-de-valdebebas-7/
LOCATION:Centro de Educacion Ambiental (CEA) del Parque Princesa Leonor\, C. de María de las Mercedes de Borbón\, 186\, Hortaleza\, Madrid\, Madrid\, 28055\, Spain
CATEGORIES:Actividad para mayores de 6 años
ATTACH;FMTTYPE=image/png:https://exploraparquevaldebebas.es/wp-content/uploads/2024/12/centro-interpretacion-Parque-Princesa-Leonor-3.png
END:VEVENT
BEGIN:VEVENT
DTSTART;TZID=UTC:20250518T113000
DTEND;TZID=UTC:20250518T130000
DTSTAMP:20260422T090603
CREATED:20250123T083941Z
LAST-MODIFIED:20250505T115822Z
UID:673-1747567800-1747573200@exploraparquevaldebebas.es
SUMMARY:Ecoaventuras en Valdebebas (siembra el futuro. San Isidro)
DESCRIPTION:🌾 San Isidro\, patrón de los agricultores \nCelebra esta fecha especial y descubre el entorno agrícola del Parque Princesa Leonor. 🌿🚜 \n¡Acompáñanos en un recorrido único por la tradición y la naturaleza! 🌱✨ \nActividad Gratuita \n  \nInscripciones \n📩 Puedes reservar tu plaza escribiéndonos a info@exploraparquevaldebebas.es o llamando al +34 618 61 57 03 \nPor favor\, indícanos: \n✅ El nombre de la actividad y la fecha en la que deseas participar✅ Nombre completo y edad de cada participante✅ Un teléfono de contacto para confirmación
URL:https://exploraparquevaldebebas.es/agenda/ecoaventuras-siembra-el-futuro-san-isidro-2/
LOCATION:Centro de Educacion Ambiental (CEA) del Parque Princesa Leonor\, C. de María de las Mercedes de Borbón\, 186\, Hortaleza\, Madrid\, Madrid\, 28055\, Spain
CATEGORIES:Actividad para mayores de 6 años
ATTACH;FMTTYPE=image/png:https://exploraparquevaldebebas.es/wp-content/uploads/2024/12/centro-interpretacion-Parque-Princesa-Leonor-8.png
END:VEVENT
BEGIN:VEVENT
DTSTART;TZID=UTC:20250524T173000
DTEND;TZID=UTC:20250524T190000
DTSTAMP:20260422T090603
CREATED:20250122T202020Z
LAST-MODIFIED:20250505T120122Z
UID:586-1748107800-1748113200@exploraparquevaldebebas.es
SUMMARY:Rutas y retos: la Gincana familiar de Valdebebas
DESCRIPTION:🔍 Explora y compite en Valdebebas \nForma tu equipo y disfruta de un juego de orientación lleno de retos y diversión. Descubre el parque mientras superas pruebas y trabajas en equipo. \n¡Vive una aventura única en la naturaleza! 🌿🏆 \nActividad Gratuita \n  \nInscripciones \n📩 Puedes reservar tu plaza escribiéndonos a info@exploraparquevaldebebas.es o llamando al +34 618 61 57 03 \nPor favor\, indícanos: \n✅ El nombre de la actividad y la fecha en la que deseas participar✅ Nombre completo y edad de cada participante✅ Un teléfono de contacto para confirmación
URL:https://exploraparquevaldebebas.es/agenda/rutas-y-retos-la-gincana-familiar-de-valdebebas-8/
LOCATION:Centro de Educacion Ambiental (CEA) del Parque Princesa Leonor\, C. de María de las Mercedes de Borbón\, 186\, Hortaleza\, Madrid\, Madrid\, 28055\, Spain
CATEGORIES:Actividad para mayores de 6 años
ATTACH;FMTTYPE=image/png:https://exploraparquevaldebebas.es/wp-content/uploads/2024/12/centro-interpretacion-Parque-Princesa-Leonor-3.png
END:VEVENT
BEGIN:VEVENT
DTSTART;TZID=UTC:20250530T173000
DTEND;TZID=UTC:20250530T190000
DTSTAMP:20260422T090603
CREATED:20250130T122004Z
LAST-MODIFIED:20250505T120302Z
UID:804-1748626200-1748631600@exploraparquevaldebebas.es
SUMMARY:Ecoaventuras en Valdebebas (aventuras en el cielo)
DESCRIPTION:🦜 Las aves viajeras de Valdebebas \n¿Sabías que muchas aves recorren miles de kilómetros cada año? 🌍✨ \nDescubre el fascinante mundo de las migraciones estacionales y aprende sobre sus increíbles travesías. 🚀🐦 \nActividad Gratuita \n  \nInscripciones \n📩 Puedes reservar tu plaza escribiéndonos a info@exploraparquevaldebebas.es o llamando al +34 618 61 57 03 \nPor favor\, indícanos: \n✅ El nombre de la actividad y la fecha en la que deseas participar✅ Nombre completo y edad de cada participante✅ Un teléfono de contacto para confirmación
URL:https://exploraparquevaldebebas.es/agenda/ecoaventuras-en-valdebebas-aventuras-en-el-cielo/
LOCATION:Centro de Educacion Ambiental (CEA) del Parque Princesa Leonor\, C. de María de las Mercedes de Borbón\, 186\, Hortaleza\, Madrid\, Madrid\, 28055\, Spain
CATEGORIES:Actividad para mayores de 6 años
ATTACH;FMTTYPE=image/png:https://exploraparquevaldebebas.es/wp-content/uploads/2024/12/centro-interpretacion-Parque-Princesa-Leonor-8.png
END:VEVENT
END:VCALENDAR