BEGIN:VCALENDAR
VERSION:2.0
PRODID:-//Explora Parque Valdebebas - ECPv6.15.20//NONSGML v1.0//EN
CALSCALE:GREGORIAN
METHOD:PUBLISH
X-ORIGINAL-URL:https://exploraparquevaldebebas.es
X-WR-CALDESC:Eventos para Explora Parque Valdebebas
REFRESH-INTERVAL;VALUE=DURATION:PT1H
X-Robots-Tag:noindex
X-PUBLISHED-TTL:PT1H
BEGIN:VTIMEZONE
TZID:UTC
BEGIN:STANDARD
TZOFFSETFROM:+0000
TZOFFSETTO:+0000
TZNAME:UTC
DTSTART:20240101T000000
END:STANDARD
END:VTIMEZONE
BEGIN:VEVENT
DTSTART;TZID=UTC:20250418T173000
DTEND;TZID=UTC:20250418T193000
DTSTAMP:20260418T185411
CREATED:20250123T081050Z
LAST-MODIFIED:20250324T122516Z
UID:652-1744997400-1745004600@exploraparquevaldebebas.es
SUMMARY:Plantas con poder. Comestibles
DESCRIPTION:🌿 Un paseo entre sabores y naturaleza \nExplora los senderos del parque y descubre las plantas que nos rodean y sus usos culinarios. 🍃🥗 \n¡Aprende y disfruta de la naturaleza en cada paso! 🚶‍♂️✨ \n  \nActividad Gratuita
URL:https://exploraparquevaldebebas.es/agenda/plantas-con-poder-comestibles/
LOCATION:Centro de Educacion Ambiental (CEA) del Parque Princesa Leonor\, C. de María de las Mercedes de Borbón\, 186\, Hortaleza\, Madrid\, Madrid\, 28055\, Spain
CATEGORIES:Actividad para adultos, (mayores de 16 años)
ATTACH;FMTTYPE=image/png:https://exploraparquevaldebebas.es/wp-content/uploads/2025/01/centro-interpretacion-Parque-Princesa-Leonor-16.png
END:VEVENT
END:VCALENDAR