BEGIN:VCALENDAR
VERSION:2.0
PRODID:-//Explora Parque Valdebebas - ECPv6.15.20//NONSGML v1.0//EN
CALSCALE:GREGORIAN
METHOD:PUBLISH
X-ORIGINAL-URL:https://exploraparquevaldebebas.es
X-WR-CALDESC:Eventos para Explora Parque Valdebebas
REFRESH-INTERVAL;VALUE=DURATION:PT1H
X-Robots-Tag:noindex
X-PUBLISHED-TTL:PT1H
BEGIN:VTIMEZONE
TZID:UTC
BEGIN:STANDARD
TZOFFSETFROM:+0000
TZOFFSETTO:+0000
TZNAME:UTC
DTSTART:20250101T000000
END:STANDARD
END:VTIMEZONE
BEGIN:VEVENT
DTSTART;TZID=UTC:20260207T110000
DTEND;TZID=UTC:20260207T133000
DTSTAMP:20260419T131908
CREATED:20251219T140631Z
LAST-MODIFIED:20260205T172653Z
UID:1536-1770462000-1770471000@exploraparquevaldebebas.es
SUMMARY:Ruta ornitológica
DESCRIPTION:Actividad Gratuita \n  \nInscripciones \n📩 Puedes reservar tu plaza escribiéndonos a info@exploraparquevaldebebas.es o llamando al +34 618 61 57 03
URL:https://exploraparquevaldebebas.es/agenda/ruta-ornitologica-8/
LOCATION:Centro de Educacion Ambiental (CEA) del Parque Princesa Leonor\, C. de María de las Mercedes de Borbón\, 186\, Hortaleza\, Madrid\, Madrid\, 28055\, Spain
CATEGORIES:Actividad para adultos, (mayores de 16 años)
ATTACH;FMTTYPE=image/png:https://exploraparquevaldebebas.es/wp-content/uploads/2025/01/centro-interpretacion-Parque-Princesa-Leonor-13.png
END:VEVENT
BEGIN:VEVENT
DTSTART;TZID=UTC:20260220T160000
DTEND;TZID=UTC:20260220T173000
DTSTAMP:20260419T131908
CREATED:20251219T141210Z
LAST-MODIFIED:20251219T141211Z
UID:1543-1771603200-1771608600@exploraparquevaldebebas.es
SUMMARY:Ciencia ciudadana
DESCRIPTION:Actividad Gratuita \n  \nInscripciones \n📩 Puedes reservar tu plaza escribiéndonos a info@exploraparquevaldebebas.es o llamando al +34 618 61 57 03
URL:https://exploraparquevaldebebas.es/agenda/ciencia-ciudadana-2/
LOCATION:Centro de Educacion Ambiental (CEA) del Parque Princesa Leonor\, C. de María de las Mercedes de Borbón\, 186\, Hortaleza\, Madrid\, Madrid\, 28055\, Spain
CATEGORIES:Actividad para adultos, (mayores de 16 años)
ATTACH;FMTTYPE=image/png:https://exploraparquevaldebebas.es/wp-content/uploads/2025/12/ciencia.png
END:VEVENT
BEGIN:VEVENT
DTSTART;TZID=UTC:20260222T113000
DTEND;TZID=UTC:20260222T133000
DTSTAMP:20260419T131908
CREATED:20251219T143656Z
LAST-MODIFIED:20251219T143656Z
UID:1550-1771759800-1771767000@exploraparquevaldebebas.es
SUMMARY:Senda de la trashumancia
DESCRIPTION:Actividad Gratuita \n  \nInscripciones \n📩 Puedes reservar tu plaza escribiéndonos a info@exploraparquevaldebebas.es o llamando al +34 618 61 57 03
URL:https://exploraparquevaldebebas.es/agenda/senda-de-la-trashumancia-2/
LOCATION:Centro de Educacion Ambiental (CEA) del Parque Princesa Leonor\, C. de María de las Mercedes de Borbón\, 186\, Hortaleza\, Madrid\, Madrid\, 28055\, Spain
CATEGORIES:Actividad para adultos, (mayores de 16 años)
ATTACH;FMTTYPE=image/png:https://exploraparquevaldebebas.es/wp-content/uploads/2025/12/centro-interpretacion-Parque-Princesa-Leonor-18.png
END:VEVENT
BEGIN:VEVENT
DTSTART;TZID=UTC:20260227T160000
DTEND;TZID=UTC:20260227T180000
DTSTAMP:20260419T131908
CREATED:20251219T144329Z
LAST-MODIFIED:20251219T144329Z
UID:1557-1772208000-1772215200@exploraparquevaldebebas.es
SUMMARY:Senda botánica
DESCRIPTION:Actividad Gratuita \n  \nInscripciones \n📩 Puedes reservar tu plaza escribiéndonos a info@exploraparquevaldebebas.es o llamando al +34 618 61 57 03
URL:https://exploraparquevaldebebas.es/agenda/senda-botanica-2/
LOCATION:Centro de Educacion Ambiental (CEA) del Parque Princesa Leonor\, C. de María de las Mercedes de Borbón\, 186\, Hortaleza\, Madrid\, Madrid\, 28055\, Spain
CATEGORIES:Actividad para adultos, (mayores de 16 años)
ATTACH;FMTTYPE=image/png:https://exploraparquevaldebebas.es/wp-content/uploads/2025/12/Senda-botanica.png
END:VEVENT
END:VCALENDAR