BEGIN:VCALENDAR
VERSION:2.0
PRODID:-//Explora Parque Valdebebas - ECPv6.15.20//NONSGML v1.0//EN
CALSCALE:GREGORIAN
METHOD:PUBLISH
X-WR-CALNAME:Explora Parque Valdebebas
X-ORIGINAL-URL:https://exploraparquevaldebebas.es
X-WR-CALDESC:Eventos para Explora Parque Valdebebas
REFRESH-INTERVAL;VALUE=DURATION:PT1H
X-Robots-Tag:noindex
X-PUBLISHED-TTL:PT1H
BEGIN:VTIMEZONE
TZID:UTC
BEGIN:STANDARD
TZOFFSETFROM:+0000
TZOFFSETTO:+0000
TZNAME:UTC
DTSTART:20240101T000000
END:STANDARD
END:VTIMEZONE
BEGIN:VEVENT
DTSTART;TZID=UTC:20250713T103000
DTEND;TZID=UTC:20250713T123000
DTSTAMP:20260419T235108
CREATED:20250610T173935Z
LAST-MODIFIED:20250610T174130Z
UID:1111-1752402600-1752409800@exploraparquevaldebebas.es
SUMMARY:Plantas con poder (Botica)
DESCRIPTION:Plantas con poder (Botica) \nActividad Gratuita \n  \nInscripciones \n📩 Puedes reservar tu plaza escribiéndonos a info@exploraparquevaldebebas.es o llamando al +34 618 61 57 03
URL:https://exploraparquevaldebebas.es/agenda/plantas-con-poder-botica/
LOCATION:Centro de Educacion Ambiental (CEA) del Parque Princesa Leonor\, C. de María de las Mercedes de Borbón\, 186\, Hortaleza\, Madrid\, Madrid\, 28055\, Spain
CATEGORIES:Actividad para adultos, (mayores de 16 años)
ATTACH;FMTTYPE=image/png:https://exploraparquevaldebebas.es/wp-content/uploads/2025/01/botica.png
END:VEVENT
BEGIN:VEVENT
DTSTART;TZID=UTC:20250719T103000
DTEND;TZID=UTC:20250719T123000
DTSTAMP:20260419T235108
CREATED:20250610T174124Z
LAST-MODIFIED:20250610T174124Z
UID:1113-1752921000-1752928200@exploraparquevaldebebas.es
SUMMARY:Plantas con poder (Comestibles)
DESCRIPTION:Plantas con poder (Comestibles) \n\nActividad Gratuita \n  \nInscripciones \n📩 Puedes reservar tu plaza escribiéndonos a info@exploraparquevaldebebas.es o llamando al +34 618 61 57 03
URL:https://exploraparquevaldebebas.es/agenda/plantas-con-poder-comestibles-4/
LOCATION:Centro de Educacion Ambiental (CEA) del Parque Princesa Leonor\, C. de María de las Mercedes de Borbón\, 186\, Hortaleza\, Madrid\, Madrid\, 28055\, Spain
CATEGORIES:Actividad para adultos, (mayores de 16 años)
ATTACH;FMTTYPE=image/png:https://exploraparquevaldebebas.es/wp-content/uploads/2025/01/centro-interpretacion-Parque-Princesa-Leonor-16.png
END:VEVENT
END:VCALENDAR