BEGIN:VCALENDAR
VERSION:2.0
PRODID:-//Explora Parque Valdebebas - ECPv6.15.20//NONSGML v1.0//EN
CALSCALE:GREGORIAN
METHOD:PUBLISH
X-WR-CALNAME:Explora Parque Valdebebas
X-ORIGINAL-URL:https://exploraparquevaldebebas.es
X-WR-CALDESC:Eventos para Explora Parque Valdebebas
REFRESH-INTERVAL;VALUE=DURATION:PT1H
X-Robots-Tag:noindex
X-PUBLISHED-TTL:PT1H
BEGIN:VTIMEZONE
TZID:UTC
BEGIN:STANDARD
TZOFFSETFROM:+0000
TZOFFSETTO:+0000
TZNAME:UTC
DTSTART:20250101T000000
END:STANDARD
END:VTIMEZONE
BEGIN:VEVENT
DTSTART;TZID=UTC:20260207T110000
DTEND;TZID=UTC:20260207T133000
DTSTAMP:20260419T164447
CREATED:20251219T140631Z
LAST-MODIFIED:20260205T172653Z
UID:1536-1770462000-1770471000@exploraparquevaldebebas.es
SUMMARY:Ruta ornitológica
DESCRIPTION:Actividad Gratuita \n  \nInscripciones \n📩 Puedes reservar tu plaza escribiéndonos a info@exploraparquevaldebebas.es o llamando al +34 618 61 57 03
URL:https://exploraparquevaldebebas.es/agenda/ruta-ornitologica-8/
LOCATION:Centro de Educacion Ambiental (CEA) del Parque Princesa Leonor\, C. de María de las Mercedes de Borbón\, 186\, Hortaleza\, Madrid\, Madrid\, 28055\, Spain
CATEGORIES:Actividad para adultos, (mayores de 16 años)
ATTACH;FMTTYPE=image/png:https://exploraparquevaldebebas.es/wp-content/uploads/2025/01/centro-interpretacion-Parque-Princesa-Leonor-13.png
END:VEVENT
BEGIN:VEVENT
DTSTART;TZID=UTC:20260207T160000
DTEND;TZID=UTC:20260207T173000
DTSTAMP:20260419T164447
CREATED:20251217T174604Z
LAST-MODIFIED:20251217T174604Z
UID:1448-1770480000-1770485400@exploraparquevaldebebas.es
SUMMARY:¿A qué huele esto? Aromas del parque
DESCRIPTION:¿A qué huele esto? Aromas del parque \nActividad Gratuita \n  \nInscripciones \n📩 Puedes reservar tu plaza escribiéndonos a info@exploraparquevaldebebas.es o llamando al +34 618 61 57 03
URL:https://exploraparquevaldebebas.es/agenda/a-que-huele-esto-aromas-del-parque-9/
LOCATION:Centro de Educacion Ambiental (CEA) del Parque Princesa Leonor\, C. de María de las Mercedes de Borbón\, 186\, Hortaleza\, Madrid\, Madrid\, 28055\, Spain
CATEGORIES:Actividad para todos los públicos
ATTACH;FMTTYPE=image/jpeg:https://exploraparquevaldebebas.es/wp-content/uploads/2025/09/centro-interpretacion-Parque-Princesa-Leonor.jpg
END:VEVENT
END:VCALENDAR