BEGIN:VCALENDAR
VERSION:2.0
PRODID:-//Explora Parque Valdebebas - ECPv6.15.20//NONSGML v1.0//EN
CALSCALE:GREGORIAN
METHOD:PUBLISH
X-WR-CALNAME:Explora Parque Valdebebas
X-ORIGINAL-URL:https://exploraparquevaldebebas.es
X-WR-CALDESC:Eventos para Explora Parque Valdebebas
REFRESH-INTERVAL;VALUE=DURATION:PT1H
X-Robots-Tag:noindex
X-PUBLISHED-TTL:PT1H
BEGIN:VTIMEZONE
TZID:UTC
BEGIN:STANDARD
TZOFFSETFROM:+0000
TZOFFSETTO:+0000
TZNAME:UTC
DTSTART:20240101T000000
END:STANDARD
END:VTIMEZONE
BEGIN:VEVENT
DTSTART;TZID=UTC:20251129T120000
DTEND;TZID=UTC:20251129T133000
DTSTAMP:20260419T211656
CREATED:20250918T110933Z
LAST-MODIFIED:20250930T101924Z
UID:1268-1764417600-1764423000@exploraparquevaldebebas.es
SUMMARY:Ecoaventuras "Calendario viento ecológico"
DESCRIPTION:Sumérgete en una jornada de juegos\, talleres y experimentos \nActividad Gratuita \n  \nInscripciones \n📩 Puedes reservar tu plaza escribiéndonos a info@exploraparquevaldebebas.es o llamando al +34 618 61 57 03
URL:https://exploraparquevaldebebas.es/agenda/ecoaventuras-10/
LOCATION:Centro de Educacion Ambiental (CEA) del Parque Princesa Leonor\, C. de María de las Mercedes de Borbón\, 186\, Hortaleza\, Madrid\, Madrid\, 28055\, Spain
CATEGORIES:Actividad para mayores de 6 años
ATTACH;FMTTYPE=image/png:https://exploraparquevaldebebas.es/wp-content/uploads/2024/12/centro-interpretacion-Parque-Princesa-Leonor-8.png
END:VEVENT
BEGIN:VEVENT
DTSTART;TZID=UTC:20251129T163000
DTEND;TZID=UTC:20251129T180000
DTSTAMP:20260419T211656
CREATED:20250918T102858Z
LAST-MODIFIED:20250918T102858Z
UID:1232-1764433800-1764439200@exploraparquevaldebebas.es
SUMMARY:Explora Valdebebas en otoño
DESCRIPTION:🔍 Descubre los secretos de Valdebebas \nAcompáñanos en una ruta especial para explorar los rincones más mágicos del parque. 🌿✨ \n¡Déjate sorprender por la naturaleza en cada senda! 🚶‍♂️🌳 \nActividad Gratuita \n  \nInscripciones \n📩 Puedes reservar tu plaza escribiéndonos a info@exploraparquevaldebebas.es o llamando al +34 618 61 57 03 \nPor favor\, indícanos: \n✅ El nombre de la actividad y la fecha en la que deseas participar✅ Nombre completo y edad de cada participante✅ Un teléfono de contacto para confirmación
URL:https://exploraparquevaldebebas.es/agenda/explora-valdebebas-en-otono-2/
LOCATION:Centro de Educacion Ambiental (CEA) del Parque Princesa Leonor\, C. de María de las Mercedes de Borbón\, 186\, Hortaleza\, Madrid\, Madrid\, 28055\, Spain
CATEGORIES:Actividad para todos los públicos
ATTACH;FMTTYPE=image/png:https://exploraparquevaldebebas.es/wp-content/uploads/2025/06/Explora-Valdebebas.png
END:VEVENT
END:VCALENDAR