BEGIN:VCALENDAR
VERSION:2.0
PRODID:-//Explora Parque Valdebebas - ECPv6.15.20//NONSGML v1.0//EN
CALSCALE:GREGORIAN
METHOD:PUBLISH
X-ORIGINAL-URL:https://exploraparquevaldebebas.es
X-WR-CALDESC:Eventos para Explora Parque Valdebebas
REFRESH-INTERVAL;VALUE=DURATION:PT1H
X-Robots-Tag:noindex
X-PUBLISHED-TTL:PT1H
BEGIN:VTIMEZONE
TZID:UTC
BEGIN:STANDARD
TZOFFSETFROM:+0000
TZOFFSETTO:+0000
TZNAME:UTC
DTSTART:20240101T000000
END:STANDARD
END:VTIMEZONE
BEGIN:VEVENT
DTSTART;TZID=UTC:20250628T103000
DTEND;TZID=UTC:20250628T123000
DTSTAMP:20260420T044938
CREATED:20250123T081530Z
LAST-MODIFIED:20250626T185441Z
UID:661-1751106600-1751113800@exploraparquevaldebebas.es
SUMMARY:Plantas con poder. Botica
DESCRIPTION:🌿 Descubre el poder de las plantas \nÚnete a un paseo donde conocerás las especies que crecen en el parque y sus usos medicinales. 🍃✨ \n¡Explora\, aprende y conecta con la naturaleza! 🚶‍♂️🌳
URL:https://exploraparquevaldebebas.es/agenda/plantas-con-poder-comestibles-5/
LOCATION:Centro de Educacion Ambiental (CEA) del Parque Princesa Leonor\, C. de María de las Mercedes de Borbón\, 186\, Hortaleza\, Madrid\, Madrid\, 28055\, Spain
CATEGORIES:Actividad para adultos, (mayores de 16 años)
ATTACH;FMTTYPE=image/png:https://exploraparquevaldebebas.es/wp-content/uploads/2025/01/centro-interpretacion-Parque-Princesa-Leonor-16.png
END:VEVENT
BEGIN:VEVENT
DTSTART;TZID=UTC:20250628T173000
DTEND;TZID=UTC:20250628T190000
DTSTAMP:20260420T044938
CREATED:20250122T204344Z
LAST-MODIFIED:20250626T185529Z
UID:612-1751131800-1751137200@exploraparquevaldebebas.es
SUMMARY:Explora Valdebebas
DESCRIPTION:🔍 Descubre los secretos de Valdebebas \nAcompáñanos en una ruta especial para explorar los rincones más mágicos del parque. 🌿✨ \n¡Déjate sorprender por la naturaleza en cada senda! 🚶‍♂️🌳
URL:https://exploraparquevaldebebas.es/agenda/explora-valdebebas-4/
LOCATION:Centro de Educacion Ambiental (CEA) del Parque Princesa Leonor\, C. de María de las Mercedes de Borbón\, 186\, Hortaleza\, Madrid\, Madrid\, 28055\, Spain
CATEGORIES:Actividad para todos los públicos
ATTACH;FMTTYPE=image/png:https://exploraparquevaldebebas.es/wp-content/uploads/2024/12/centro-interpretacion-Parque-Princesa-Leonor-5.png
END:VEVENT
END:VCALENDAR