BEGIN:VCALENDAR
VERSION:2.0
PRODID:-//Explora Parque Valdebebas - ECPv6.15.20//NONSGML v1.0//EN
CALSCALE:GREGORIAN
METHOD:PUBLISH
X-ORIGINAL-URL:https://exploraparquevaldebebas.es
X-WR-CALDESC:Eventos para Explora Parque Valdebebas
REFRESH-INTERVAL;VALUE=DURATION:PT1H
X-Robots-Tag:noindex
X-PUBLISHED-TTL:PT1H
BEGIN:VTIMEZONE
TZID:UTC
BEGIN:STANDARD
TZOFFSETFROM:+0000
TZOFFSETTO:+0000
TZNAME:UTC
DTSTART:20240101T000000
END:STANDARD
END:VTIMEZONE
BEGIN:VEVENT
DTSTART;TZID=UTC:20250622T113000
DTEND;TZID=UTC:20250622T130000
DTSTAMP:20260420T045014
CREATED:20250122T203252Z
LAST-MODIFIED:20250130T180846Z
UID:600-1750591800-1750597200@exploraparquevaldebebas.es
SUMMARY:EcoAventura en Valdebebas: Día del sol
DESCRIPTION:☀️ Descubre el poder del Sol \nDisfruta de una jornada llena de juegos\, talleres y experimentos para aprender sobre la importancia de nuestra estrella más vital. 🌍✨ \n¡Explora\, diviértete y comprende el impacto del Sol en nuestro planeta! 🔆
URL:https://exploraparquevaldebebas.es/agenda/ecoaventuras-sol/
LOCATION:Centro de Educacion Ambiental (CEA) del Parque Princesa Leonor\, C. de María de las Mercedes de Borbón\, 186\, Hortaleza\, Madrid\, Madrid\, 28055\, Spain
CATEGORIES:Actividad para mayores de 6 años
ATTACH;FMTTYPE=image/png:https://exploraparquevaldebebas.es/wp-content/uploads/2024/12/centro-interpretacion-Parque-Princesa-Leonor-8.png
END:VEVENT
BEGIN:VEVENT
DTSTART;TZID=UTC:20250622T173000
DTEND;TZID=UTC:20250622T193000
DTSTAMP:20260420T045014
CREATED:20250122T210803Z
LAST-MODIFIED:20250508T102655Z
UID:631-1750613400-1750620600@exploraparquevaldebebas.es
SUMMARY:Concurso de fotografia. Exposición
DESCRIPTION:📸 ¡Llega el gran día de la exposición de fotografía paisajística en Explora Valdebebas! 🌿✨ \nVen a descubrir cómo nuestros participantes han inmortalizado los rincones más mágicos y espectaculares del parque.Una oportunidad para ver el paisaje a través de sus ojos y compartir la pasión por la naturaleza. 🌳🏞️ \n¡Te esperamos para celebrar juntos el arte\, la biodiversidad y la belleza de Valdebebas!
URL:https://exploraparquevaldebebas.es/agenda/exposicion-popular-concurso-de-fotografia-y-entrega-premios/
LOCATION:Centro de Educacion Ambiental (CEA) del Parque Princesa Leonor\, C. de María de las Mercedes de Borbón\, 186\, Hortaleza\, Madrid\, Madrid\, 28055\, Spain
CATEGORIES:Actividad para todos los públicos
ATTACH;FMTTYPE=image/png:https://exploraparquevaldebebas.es/wp-content/uploads/2025/01/centro-interpretacion-Parque-Princesa-Leonor-11.png
END:VEVENT
END:VCALENDAR