BEGIN:VCALENDAR
VERSION:2.0
PRODID:-//Explora Parque Valdebebas - ECPv6.15.20//NONSGML v1.0//EN
CALSCALE:GREGORIAN
METHOD:PUBLISH
X-WR-CALNAME:Explora Parque Valdebebas
X-ORIGINAL-URL:https://exploraparquevaldebebas.es
X-WR-CALDESC:Eventos para Explora Parque Valdebebas
REFRESH-INTERVAL;VALUE=DURATION:PT1H
X-Robots-Tag:noindex
X-PUBLISHED-TTL:PT1H
BEGIN:VTIMEZONE
TZID:UTC
BEGIN:STANDARD
TZOFFSETFROM:+0000
TZOFFSETTO:+0000
TZNAME:UTC
DTSTART:20240101T000000
END:STANDARD
END:VTIMEZONE
BEGIN:VEVENT
DTSTART;TZID=UTC:20250614T113000
DTEND;TZID=UTC:20250614T130000
DTSTAMP:20260418T093448
CREATED:20250122T203043Z
LAST-MODIFIED:20250505T121505Z
UID:598-1749900600-1749906000@exploraparquevaldebebas.es
SUMMARY:Ecoaventuras en Valdebebas (agua)
DESCRIPTION:💧 Descubre el viaje del agua \nSumérgete en una jornada de juegos\, talleres y experimentos para entender cómo funciona el ciclo del agua. 🌍✨ \n¡Aprende de forma divertida la importancia de este recurso esencial! 🚰🌱 \nActividad Gratuita \n  \nInscripciones \n📩 Puedes reservar tu plaza escribiéndonos a info@exploraparquevaldebebas.es o llamando al +34 618 61 57 03 \nPor favor\, indícanos: \n✅ El nombre de la actividad y la fecha en la que deseas participar✅ Nombre completo y edad de cada participante✅ Un teléfono de contacto para confirmación
URL:https://exploraparquevaldebebas.es/agenda/ecoaventuras-agua-2/
LOCATION:Centro de Educacion Ambiental (CEA) del Parque Princesa Leonor\, C. de María de las Mercedes de Borbón\, 186\, Hortaleza\, Madrid\, Madrid\, 28055\, Spain
CATEGORIES:Actividad para mayores de 6 años
ATTACH;FMTTYPE=image/png:https://exploraparquevaldebebas.es/wp-content/uploads/2024/12/centro-interpretacion-Parque-Princesa-Leonor-8.png
END:VEVENT
BEGIN:VEVENT
DTSTART;TZID=UTC:20250614T173000
DTEND;TZID=UTC:20250614T193000
DTSTAMP:20260418T093448
CREATED:20250130T111200Z
LAST-MODIFIED:20250505T121615Z
UID:775-1749922200-1749929400@exploraparquevaldebebas.es
SUMMARY:Plantas con poder. Comestibles
DESCRIPTION:🌿 Un paseo entre sabores y naturaleza \nExplora los senderos del parque y descubre las plantas que nos rodean y sus usos culinarios. 🍃🥗 \n¡Aprende y disfruta de la naturaleza en cada paso! 🚶‍♂️✨ \nActividad Gratuita \n  \nInscripciones \n📩 Puedes reservar tu plaza escribiéndonos a info@exploraparquevaldebebas.es o llamando al +34 618 61 57 03 \nPor favor\, indícanos: \n✅ El nombre de la actividad y la fecha en la que deseas participar✅ Nombre completo y edad de cada participante✅ Un teléfono de contacto para confirmación
URL:https://exploraparquevaldebebas.es/agenda/plantas-con-poder-comestibles-9/
LOCATION:Centro de Educacion Ambiental (CEA) del Parque Princesa Leonor\, C. de María de las Mercedes de Borbón\, 186\, Hortaleza\, Madrid\, Madrid\, 28055\, Spain
CATEGORIES:Actividad para adultos, (mayores de 16 años)
ATTACH;FMTTYPE=image/png:https://exploraparquevaldebebas.es/wp-content/uploads/2025/01/centro-interpretacion-Parque-Princesa-Leonor-16.png
END:VEVENT
END:VCALENDAR