BEGIN:VCALENDAR
VERSION:2.0
PRODID:-//Explora Parque Valdebebas - ECPv6.15.20//NONSGML v1.0//EN
CALSCALE:GREGORIAN
METHOD:PUBLISH
X-ORIGINAL-URL:https://exploraparquevaldebebas.es
X-WR-CALDESC:Eventos para Explora Parque Valdebebas
REFRESH-INTERVAL;VALUE=DURATION:PT1H
X-Robots-Tag:noindex
X-PUBLISHED-TTL:PT1H
BEGIN:VTIMEZONE
TZID:UTC
BEGIN:STANDARD
TZOFFSETFROM:+0000
TZOFFSETTO:+0000
TZNAME:UTC
DTSTART:20240101T000000
END:STANDARD
END:VTIMEZONE
BEGIN:VEVENT
DTSTART;TZID=UTC:20250515T113000
DTEND;TZID=UTC:20250515T130000
DTSTAMP:20260420T061637
CREATED:20250122T202727Z
LAST-MODIFIED:20250505T114845Z
UID:594-1747308600-1747314000@exploraparquevaldebebas.es
SUMMARY:Ecoaventuras en Valdebebas (Siembra el futuro. San Isidro)
DESCRIPTION:🌾 San Isidro\, patrón de los agricultores \nCelebra esta fecha especial y descubre el entorno agrícola del Parque Princesa Leonor. 🌿🚜 \n¡Acompáñanos en un recorrido único por la tradición y la naturaleza! 🌱✨ \nActividad Gratuita \n  \nInscripciones \n📩 Puedes reservar tu plaza escribiéndonos a info@exploraparquevaldebebas.es o llamando al +34 618 61 57 03 \nPor favor\, indícanos: \n✅ El nombre de la actividad y la fecha en la que deseas participar✅ Nombre completo y edad de cada participante✅ Un teléfono de contacto para confirmación
URL:https://exploraparquevaldebebas.es/agenda/ecoaventuras-siembra-el-futuro-san-isidro/
LOCATION:Centro de Educacion Ambiental (CEA) del Parque Princesa Leonor\, C. de María de las Mercedes de Borbón\, 186\, Hortaleza\, Madrid\, Madrid\, 28055\, Spain
CATEGORIES:Actividad para mayores de 6 años
ATTACH;FMTTYPE=image/png:https://exploraparquevaldebebas.es/wp-content/uploads/2024/12/centro-interpretacion-Parque-Princesa-Leonor-8.png
END:VEVENT
BEGIN:VEVENT
DTSTART;TZID=UTC:20250515T173000
DTEND;TZID=UTC:20250515T190000
DTSTAMP:20260420T061637
CREATED:20250122T201908Z
LAST-MODIFIED:20250505T114955Z
UID:584-1747330200-1747335600@exploraparquevaldebebas.es
SUMMARY:Rutas y retos: la Gincana familiar de Valdebebas
DESCRIPTION:🔍 Explora y compite en Valdebebas \nForma tu equipo y disfruta de un juego de orientación lleno de retos y diversión. Descubre el parque mientras superas pruebas y trabajas en equipo. \n¡Vive una aventura única en la naturaleza! 🌿🏆 \nActividad Gratuita \n  \nInscripciones \n📩 Puedes reservar tu plaza escribiéndonos a info@exploraparquevaldebebas.es o llamando al +34 618 61 57 03 \nPor favor\, indícanos: \n✅ El nombre de la actividad y la fecha en la que deseas participar✅ Nombre completo y edad de cada participante✅ Un teléfono de contacto para confirmación
URL:https://exploraparquevaldebebas.es/agenda/rutas-y-retos-la-gincana-familiar-de-valdebebas-7/
LOCATION:Centro de Educacion Ambiental (CEA) del Parque Princesa Leonor\, C. de María de las Mercedes de Borbón\, 186\, Hortaleza\, Madrid\, Madrid\, 28055\, Spain
CATEGORIES:Actividad para mayores de 6 años
ATTACH;FMTTYPE=image/png:https://exploraparquevaldebebas.es/wp-content/uploads/2024/12/centro-interpretacion-Parque-Princesa-Leonor-3.png
END:VEVENT
END:VCALENDAR