BEGIN:VCALENDAR
VERSION:2.0
PRODID:-//Explora Parque Valdebebas - ECPv6.15.20//NONSGML v1.0//EN
CALSCALE:GREGORIAN
METHOD:PUBLISH
X-WR-CALNAME:Explora Parque Valdebebas
X-ORIGINAL-URL:https://exploraparquevaldebebas.es
X-WR-CALDESC:Eventos para Explora Parque Valdebebas
REFRESH-INTERVAL;VALUE=DURATION:PT1H
X-Robots-Tag:noindex
X-PUBLISHED-TTL:PT1H
BEGIN:VTIMEZONE
TZID:UTC
BEGIN:STANDARD
TZOFFSETFROM:+0000
TZOFFSETTO:+0000
TZNAME:UTC
DTSTART:20240101T000000
END:STANDARD
END:VTIMEZONE
BEGIN:VEVENT
DTSTART;TZID=UTC:20250420T113000
DTEND;TZID=UTC:20250420T130000
DTSTAMP:20260420T074957
CREATED:20250123T080427Z
LAST-MODIFIED:20250324T122624Z
UID:647-1745148600-1745154000@exploraparquevaldebebas.es
SUMMARY:Rutas y Retos de Pascua
DESCRIPTION:🥚🔍 ¡Encuentra el huevo de Pascua perdido! \nForma tu equipo y participa en este juego de orientación\, resolviendo retos mientras exploras el Parque de Valdebebas. 🌿🏆 \n¡Vive una aventura única y descubre todos sus secretos! 🚀✨ \n  \nActividad Gratuita
URL:https://exploraparquevaldebebas.es/agenda/rutas-y-retos-de-pascua/
LOCATION:Centro de Educacion Ambiental (CEA) del Parque Princesa Leonor\, C. de María de las Mercedes de Borbón\, 186\, Hortaleza\, Madrid\, Madrid\, 28055\, Spain
CATEGORIES:Actividad para mayores de 6 años
ATTACH;FMTTYPE=image/png:https://exploraparquevaldebebas.es/wp-content/uploads/2025/01/centro-interpretacion-Parque-Princesa-Leonor-15.png
END:VEVENT
BEGIN:VEVENT
DTSTART;TZID=UTC:20250420T173000
DTEND;TZID=UTC:20250420T190000
DTSTAMP:20260420T074957
CREATED:20250123T075909Z
LAST-MODIFIED:20250324T122654Z
UID:645-1745170200-1745175600@exploraparquevaldebebas.es
SUMMARY:Guardianes del planeta. Día de la Tierra
DESCRIPTION:🌍 Celebra el Día de la Tierra con nosotros \nDisfruta de juegos y actividades en la naturaleza para aprender y conectar con el planeta. 🌿✨ \n¡Ven a vivir un día lleno de diversión y conciencia ambiental! 🌱♻️ \n  \nActividad Gratuita
URL:https://exploraparquevaldebebas.es/agenda/guardianes-del-planeta-dia-de-la-tierra-2/
LOCATION:Centro de Educacion Ambiental (CEA) del Parque Princesa Leonor\, C. de María de las Mercedes de Borbón\, 186\, Hortaleza\, Madrid\, Madrid\, 28055\, Spain
CATEGORIES:Actividad para mayores de 6 años
ATTACH;FMTTYPE=image/png:https://exploraparquevaldebebas.es/wp-content/uploads/2025/01/centro-interpretacion-Parque-Princesa-Leonor-14.png
END:VEVENT
END:VCALENDAR