BEGIN:VCALENDAR
VERSION:2.0
PRODID:-//Explora Parque Valdebebas - ECPv6.15.20//NONSGML v1.0//EN
CALSCALE:GREGORIAN
METHOD:PUBLISH
X-ORIGINAL-URL:https://exploraparquevaldebebas.es
X-WR-CALDESC:Eventos para Explora Parque Valdebebas
REFRESH-INTERVAL;VALUE=DURATION:PT1H
X-Robots-Tag:noindex
X-PUBLISHED-TTL:PT1H
BEGIN:VTIMEZONE
TZID:UTC
BEGIN:STANDARD
TZOFFSETFROM:+0000
TZOFFSETTO:+0000
TZNAME:UTC
DTSTART:20240101T000000
END:STANDARD
END:VTIMEZONE
BEGIN:VEVENT
DTSTART;TZID=UTC:20250405T113000
DTEND;TZID=UTC:20250405T130000
DTSTAMP:20260419T193126
CREATED:20250122T184123Z
LAST-MODIFIED:20250312T121842Z
UID:571-1743852600-1743858000@exploraparquevaldebebas.es
SUMMARY:Rutas y retos: la Gincana familiar de Valdebebas
DESCRIPTION:🔍 Explora y compite en Valdebebas \nForma tu equipo y disfruta de un juego de orientación lleno de retos y diversión. Descubre el parque mientras superas pruebas y trabajas en equipo. \n¡Vive una aventura única en la naturaleza! 🌿🏆 \n  \nActividad Gratuita
URL:https://exploraparquevaldebebas.es/agenda/rutas-y-retos-la-gincana-familiar-de-valdebebas/
LOCATION:Centro de Educacion Ambiental (CEA) del Parque Princesa Leonor\, C. de María de las Mercedes de Borbón\, 186\, Hortaleza\, Madrid\, Madrid\, 28055\, Spain
CATEGORIES:Actividad para mayores de 6 años
ATTACH;FMTTYPE=image/png:https://exploraparquevaldebebas.es/wp-content/uploads/2024/12/centro-interpretacion-Parque-Princesa-Leonor-3.png
END:VEVENT
BEGIN:VEVENT
DTSTART;TZID=UTC:20250405T173000
DTEND;TZID=UTC:20250405T190000
DTSTAMP:20260419T193126
CREATED:20241216T145205Z
LAST-MODIFIED:20250312T122143Z
UID:165-1743874200-1743879600@exploraparquevaldebebas.es
SUMMARY:Explora Valdebebas
DESCRIPTION:🔍 Descubre los secretos de Valdebebas \nAcompáñanos en una ruta especial para explorar los rincones más mágicos del parque. 🌿✨ \n¡Déjate sorprender por la naturaleza en cada senda! 🚶‍♂️🌳 \n  \nActividad Gratuita
URL:https://exploraparquevaldebebas.es/agenda/explora-valdebebas-2/
LOCATION:Centro de Educacion Ambiental (CEA) del Parque Princesa Leonor\, C. de María de las Mercedes de Borbón\, 186\, Hortaleza\, Madrid\, Madrid\, 28055\, Spain
CATEGORIES:Actividad para todos los públicos
ATTACH;FMTTYPE=image/png:https://exploraparquevaldebebas.es/wp-content/uploads/2024/12/centro-interpretacion-Parque-Princesa-Leonor-5.png
END:VEVENT
END:VCALENDAR